BEGIN:VCALENDAR
VERSION:2.0
PRODID:-//Plone.org//NONSGML plone.app.event//EN
X-WR-TIMEZONE:America/Maceio
BEGIN:VEVENT
SUMMARY:Banca de Defesa de Dissertação
DTSTART;TZID=America/Maceio:20160803T100000
DTEND;TZID=America/Maceio:20160803T120000
DTSTAMP:20260420T122156Z
UID:613ba72de16343e2b8e60cd9bd06218c@ip.ufal.br
CREATED:20160802T180041Z
DESCRIPTION:Banca de defesa de dissertação do discente Dionis Soares de 
 Souza: "As crianças e seus heróis: considerações sobre dinâmicas do s
 elf no desenvolvimento infantil".
LAST-MODIFIED:20250702T221511Z
LOCATION:Sala 33 do IP
URL:https://ip.ufal.br/pt-br/pos-graduacao/pospsico/institucional/calendar
 io-de-defesas/defesas-em-2016/banca-de-defesa-de-dissertacao-11
END:VEVENT
BEGIN:VTIMEZONE
TZID:America/Maceio
X-LIC-LOCATION:America/Maceio
BEGIN:STANDARD
DTSTART:20020216T230000
TZNAME:-03
TZOFFSETFROM:-0200
TZOFFSETTO:-0300
END:STANDARD
END:VTIMEZONE
END:VCALENDAR
