BEGIN:VCALENDAR
VERSION:2.0
PRODID:-//Plone.org//NONSGML plone.app.event//EN
X-WR-TIMEZONE:America/Maceio
BEGIN:VEVENT
SUMMARY:Banca de defesa de dissertação
DTSTART;TZID=America/Maceio:20160603T100000
DTEND;TZID=America/Maceio:20160603T122000
DTSTAMP:20260420T152426Z
UID:4b089e6204494c84bb9d4337b7c9c8a7@ip.ufal.br
ATTENDEE;CN="Banca examinadora:";ROLE=REQ-PARTICIPANT:Banca examinadora:
ATTENDEE;CN="Prof. Dr. Jefferson de Souza Bernardes - Orientador";ROLE=REQ
 -PARTICIPANT:Prof. Dr. Jefferson de Souza Bernardes - Orientador
ATTENDEE;CN="Profª Drª Maria Auxiliadora Teixeira Ribeiro";ROLE=REQ-PART
 ICIPANT:Profª Drª Maria Auxiliadora Teixeira Ribeiro
ATTENDEE;CN="Profª Drª Maria Cicera dos Santos de Albuquerque - Examinad
 ora externa";ROLE=REQ-PARTICIPANT:Profª Drª Maria Cicera dos Santos de A
 lbuquerque - Examinadora externa
CREATED:20160603T112227Z
DESCRIPTION:Banca de defesa de dissertação da discente Darlan dos Santos
  Damásio: "Os sentidos produzidos por usuários de CAPS acerca do diagnó
 stico de transtorno mental/comportamento".
LAST-MODIFIED:20250702T221511Z
LOCATION:Sala 33 do IP
URL:https://ip.ufal.br/pt-br/pos-graduacao/pospsico/institucional/calendar
 io-de-defesas/defesas-em-2016/banca-de-defesa-de-dissertacao-10
END:VEVENT
BEGIN:VTIMEZONE
TZID:America/Maceio
X-LIC-LOCATION:America/Maceio
BEGIN:STANDARD
DTSTART:20020216T230000
TZNAME:-03
TZOFFSETFROM:-0200
TZOFFSETTO:-0300
END:STANDARD
END:VTIMEZONE
END:VCALENDAR
