BEGIN:VCALENDAR
VERSION:2.0
PRODID:-//Plone.org//NONSGML plone.app.event//EN
X-WR-TIMEZONE:America/Maceio
BEGIN:VEVENT
SUMMARY:Banca de defesa de dissertação
DTSTART;TZID=America/Maceio:20160314T153000
DTEND;TZID=America/Maceio:20160314T170000
DTSTAMP:20260420T174846Z
UID:d4f5e7c9a8c84c788b495bd71adc2ca9@ip.ufal.br
ATTENDEE;CN="Orientadora: Profa. Dra. Susane Vasconcelos Zanotti";ROLE=REQ
 -PARTICIPANT:Orientadora: Profa. Dra. Susane Vasconcelos Zanotti
ATTENDEE;CN="Banca: Profa. Dra. Edilene Freire de Queiroz (UNICAP)";ROLE=R
 EQ-PARTICIPANT:Banca: Profa. Dra. Edilene Freire de Queiroz (UNICAP)
ATTENDEE;CN="Prof. Dr. Charles Elias Lang (UFAL)";ROLE=REQ-PARTICIPANT:Pro
 f. Dr. Charles Elias Lang (UFAL)
CREATED:20160309T145834Z
DESCRIPTION:Banca de defesa de dissertação para obtenção do título de
  Mestre da discente Viviane Soares Nunes. Título: “Da diferenciação d
 o sexo à diferença sexual: Um estudo psicanalítico”
LAST-MODIFIED:20250702T221511Z
LOCATION:Laboratório de Computação Científica e Visualização da Univ
 ersidade Federal de Alagoas
URL:https://ip.ufal.br/pt-br/pos-graduacao/pospsico/institucional/calendar
 io-de-defesas/defesas-em-2016/banca-de-defesa-de-dissertacao-1
END:VEVENT
BEGIN:VTIMEZONE
TZID:America/Maceio
X-LIC-LOCATION:America/Maceio
BEGIN:STANDARD
DTSTART:20020216T230000
TZNAME:-03
TZOFFSETFROM:-0200
TZOFFSETTO:-0300
END:STANDARD
END:VTIMEZONE
END:VCALENDAR
