BEGIN:VCALENDAR
VERSION:2.0
PRODID:-//Plone.org//NONSGML plone.app.event//EN
X-WR-TIMEZONE:America/Maceio
BEGIN:VEVENT
SUMMARY:BANCA DE DEFESA DE DISSERTAÇÃO
DTSTART;TZID=America/Maceio:20150320T090000
DTEND;TZID=America/Maceio:20150320T120000
DTSTAMP:20260420T174848Z
UID:9ae613bd9cdc422d8681b1e7441bf722@ip.ufal.br
ATTENDEE;CN="Orientadora: Profª. Drª. Simone Maria Hüning;";ROLE=REQ-PA
 RTICIPANT:Orientadora: Profª. Drª. Simone Maria Hüning;
ATTENDEE;CN="Banca : Profª. Drª Hebe Signorini Gonçalves (UFRJ)";ROLE=R
 EQ-PARTICIPANT:Banca : Profª. Drª Hebe Signorini Gonçalves (UFRJ)
ATTENDEE;CN="Prof. Dr. João Batista de Menezes Bittencourt(UFAL)";ROLE=RE
 Q-PARTICIPANT:Prof. Dr. João Batista de Menezes Bittencourt(UFAL)
ATTENDEE;CN="Profª. Drª. Lisandra Espíndula Moreira (UFAL).";ROLE=REQ-P
 ARTICIPANT:Profª. Drª. Lisandra Espíndula Moreira (UFAL).
CREATED:20150316T151958Z
DESCRIPTION:Banca de Defesa de Dissertação de Mestrado para obtenção d
 o título de Mestre.
LAST-MODIFIED:20250702T221511Z
LOCATION:Sala dos Professores do Instituto de Psicologia - localizada no I
 CS
URL:https://ip.ufal.br/pt-br/pos-graduacao/pospsico/institucional/calendar
 io-de-defesas/defesas-em-2015/banca-de-defesa-de-dissertacao
END:VEVENT
BEGIN:VTIMEZONE
TZID:America/Maceio
X-LIC-LOCATION:America/Maceio
BEGIN:STANDARD
DTSTART:20020216T230000
TZNAME:-03
TZOFFSETFROM:-0200
TZOFFSETTO:-0300
END:STANDARD
END:VTIMEZONE
END:VCALENDAR
