BEGIN:VCALENDAR
VERSION:2.0
PRODID:-//Plone.org//NONSGML plone.app.event//EN
X-WR-TIMEZONE:America/Maceio
BEGIN:VEVENT
SUMMARY:BANCA DE DEFESA DE DISSERTAÇÃO
DTSTART;TZID=America/Maceio:20150429T143000
DTEND;TZID=America/Maceio:20150429T173000
DTSTAMP:20260420T182400Z
UID:62b4645562184460b1e0a5a0fc930e01@ip.ufal.br
ATTENDEE;CN="Orientadora: Profª. Drª. Nadja Maria Vieira da Silva (UFAL)
 ;";ROLE=REQ-PARTICIPANT:Orientadora: Profª. Drª. Nadja Maria Vieira da S
 ilva (UFAL);
ATTENDEE;CN="Banca: Profª. Drª. Emmanuelle Christine Chaves da Silva (UF
 RPE);";ROLE=REQ-PARTICIPANT:Banca: Profª. Drª. Emmanuelle Christine Chav
 es da Silva (UFRPE);
ATTENDEE;CN="Profª. Drª. Maria Auxiliadora Teixeira Ribeiro (UFAL).";ROL
 E=REQ-PARTICIPANT:Profª. Drª. Maria Auxiliadora Teixeira Ribeiro (UFAL).
CREATED:20150427T141809Z
DESCRIPTION:Banca de Defesa de Dissertação para obtenção do título de
  Mestre.
LAST-MODIFIED:20250702T221511Z
LOCATION:Auditório do Ichca.
URL:https://ip.ufal.br/pt-br/pos-graduacao/pospsico/institucional/calendar
 io-de-defesas/defesas-em-2015/banca-de-defesa-de-dissertacao-6
END:VEVENT
BEGIN:VTIMEZONE
TZID:America/Maceio
X-LIC-LOCATION:America/Maceio
BEGIN:STANDARD
DTSTART:20020216T230000
TZNAME:-03
TZOFFSETFROM:-0200
TZOFFSETTO:-0300
END:STANDARD
END:VTIMEZONE
END:VCALENDAR
