BEGIN:VCALENDAR
VERSION:2.0
PRODID:-//Plone.org//NONSGML plone.app.event//EN
X-WR-TIMEZONE:America/Maceio
BEGIN:VEVENT
SUMMARY:BANCA DE DEFESA DE DISSERTAÇÃO
DTSTART;TZID=America/Maceio:20150430T090000
DTEND;TZID=America/Maceio:20150430T120000
DTSTAMP:20260420T174641Z
UID:e28b6774b46e444db4a33222f829daea@ip.ufal.br
ATTENDEE;CN="Orientador: Prof. Dr. Jefferson de Souza Bernardes (UFAL);";R
 OLE=REQ-PARTICIPANT:Orientador: Prof. Dr. Jefferson de Souza Bernardes (UF
 AL);
ATTENDEE;CN="Co-orientadora: Profª. Drª. Deise Juliana Francisco (UFAL);
 ";ROLE=REQ-PARTICIPANT:Co-orientadora: Profª. Drª. Deise Juliana Francis
 co (UFAL);
ATTENDEE;CN="Banca: Profª. Drª. Karla Rosane do Amaral Demoly (UFRSA);";
 ROLE=REQ-PARTICIPANT:Banca: Profª. Drª. Karla Rosane do Amaral Demoly (U
 FRSA);
ATTENDEE;CN="Profª. Drª. Maria Auxiliadora Teixeira Ribeiro (UFAL).";ROL
 E=REQ-PARTICIPANT:Profª. Drª. Maria Auxiliadora Teixeira Ribeiro (UFAL).
CREATED:20150427T140850Z
DESCRIPTION:Banca de Defesa de Dissertação para obtenção do título de
  Mestre.
LAST-MODIFIED:20250702T221511Z
LOCATION:Auditório do Ichca
URL:https://ip.ufal.br/pt-br/pos-graduacao/pospsico/institucional/calendar
 io-de-defesas/defesas-em-2015/banca-de-defesa-de-dissertacao-5
END:VEVENT
BEGIN:VTIMEZONE
TZID:America/Maceio
X-LIC-LOCATION:America/Maceio
BEGIN:STANDARD
DTSTART:20020216T230000
TZNAME:-03
TZOFFSETFROM:-0200
TZOFFSETTO:-0300
END:STANDARD
END:VTIMEZONE
END:VCALENDAR
