BEGIN:VCALENDAR
VERSION:2.0
PRODID:-//Plone.org//NONSGML plone.app.event//EN
X-WR-TIMEZONE:America/Maceio
BEGIN:VEVENT
SUMMARY:BANCA DE DEFESA DE DISSERTAÇÃO
DTSTART;TZID=America/Maceio:20150429T103000
DTEND;TZID=America/Maceio:20150429T120000
DTSTAMP:20260420T174848Z
UID:b42e9a33a28346dfbe436ac78d4c3b26@ip.ufal.br
ATTENDEE;CN="Orientadora: Profª. Drª. Nadja Maria Vieira da Silva;";ROLE
 =REQ-PARTICIPANT:Orientadora: Profª. Drª. Nadja Maria Vieira da Silva;
ATTENDEE;CN="Banca: Profª. Drª. Emmanuelle Christine Chaves da Silva (UF
 RPE);";ROLE=REQ-PARTICIPANT:Banca: Profª. Drª. Emmanuelle Christine Chav
 es da Silva (UFRPE);
ATTENDEE;CN="Prof. Dr. Jefferson de Souza Bernardes (UFAL).";ROLE=REQ-PART
 ICIPANT:Prof. Dr. Jefferson de Souza Bernardes (UFAL).
CREATED:20150427T132842Z
DESCRIPTION:Banca de Defesa de Dissertação para obtenção do título de
  Mestre.
LAST-MODIFIED:20250702T221511Z
LOCATION:Miniauditório do Programa de Pós-graduação em Sociologia\, no
  Instituto de Ciências Sociais
URL:https://ip.ufal.br/pt-br/pos-graduacao/pospsico/institucional/calendar
 io-de-defesas/defesas-em-2015/banca-de-defesa-de-dissertacao-4
END:VEVENT
BEGIN:VTIMEZONE
TZID:America/Maceio
X-LIC-LOCATION:America/Maceio
BEGIN:STANDARD
DTSTART:20020216T230000
TZNAME:-03
TZOFFSETFROM:-0200
TZOFFSETTO:-0300
END:STANDARD
END:VTIMEZONE
END:VCALENDAR
