BEGIN:VCALENDAR
VERSION:2.0
PRODID:-//Plone.org//NONSGML plone.app.event//EN
X-WR-TIMEZONE:America/Maceio
BEGIN:VEVENT
SUMMARY:BANCA DE DEFESA DE DISSERTAÇÃO
DTSTART;TZID=America/Maceio:20150413T140000
DTEND;TZID=America/Maceio:20150413T160000
DTSTAMP:20260420T174848Z
UID:c8c6ebde8adc47998d2d3b4197868199@ip.ufal.br
ATTENDEE;CN="Participantes: Orientador: Prof. Dr. Jefferson de Souza Berna
 rdes;";ROLE=REQ-PARTICIPANT:Participantes: Orientador: Prof. Dr. Jefferson
  de Souza Bernardes;
ATTENDEE;CN="Banca: Profª. Drª. Barbara Eleonora Bezerra Cabral;";ROLE=R
 EQ-PARTICIPANT:Banca: Profª. Drª. Barbara Eleonora Bezerra Cabral;
ATTENDEE;CN="Profª. Drª. Cristina Camêlo de Azevêdo.";ROLE=REQ-PARTICI
 PANT:Profª. Drª. Cristina Camêlo de Azevêdo.
CREATED:20150330T164953Z
DESCRIPTION:Banca de defesa de dissertação para obtenção do título de
  Mestre.
LAST-MODIFIED:20250702T221511Z
LOCATION:Auditório do Ichca
URL:https://ip.ufal.br/pt-br/pos-graduacao/pospsico/institucional/calendar
 io-de-defesas/defesas-em-2015/banca-de-defesa-de-dissertacao-3
END:VEVENT
BEGIN:VTIMEZONE
TZID:America/Maceio
X-LIC-LOCATION:America/Maceio
BEGIN:STANDARD
DTSTART:20020216T230000
TZNAME:-03
TZOFFSETFROM:-0200
TZOFFSETTO:-0300
END:STANDARD
END:VTIMEZONE
END:VCALENDAR
