BEGIN:VCALENDAR
VERSION:2.0
PRODID:-//Plone.org//NONSGML plone.app.event//EN
X-WR-TIMEZONE:America/Maceio
BEGIN:VEVENT
SUMMARY:BANCA DE DEFESA DE DISSERTAÇÃO
DTSTART;TZID=America/Maceio:20150330T080000
DTEND;TZID=America/Maceio:20150330T100000
DTSTAMP:20260420T182400Z
UID:9ec70cabe84b46bbbcc5fdada007241d@ip.ufal.br
ATTENDEE;CN="Orientadora: Profª. Drª. Susane Vasconcelos Zanotti;";ROLE=
 REQ-PARTICIPANT:Orientadora: Profª. Drª. Susane Vasconcelos Zanotti;
ATTENDEE;CN="Banca: Profª. Drª. Heloísa Fernandes Caldas Ribeiro (UFRJ)
 ;";ROLE=REQ-PARTICIPANT:Banca: Profª. Drª. Heloísa Fernandes Caldas Rib
 eiro (UFRJ);
ATTENDEE;CN="Prof. Dr. Charles Elias Lang (UFAL).";ROLE=REQ-PARTICIPANT:Pr
 of. Dr. Charles Elias Lang (UFAL).
CREATED:20150318T151622Z
DESCRIPTION:Banca de defesa de dissertação para obtenção do título de
  Mestre. 
LAST-MODIFIED:20250702T221511Z
LOCATION:Auditório da Biblioteca Central - UFAL
URL:https://ip.ufal.br/pt-br/pos-graduacao/pospsico/institucional/calendar
 io-de-defesas/defesas-em-2015/banca-de-defesa-de-dissertacao-1
END:VEVENT
BEGIN:VTIMEZONE
TZID:America/Maceio
X-LIC-LOCATION:America/Maceio
BEGIN:STANDARD
DTSTART:20020216T230000
TZNAME:-03
TZOFFSETFROM:-0200
TZOFFSETTO:-0300
END:STANDARD
END:VTIMEZONE
END:VCALENDAR
