BEGIN:VCALENDAR
VERSION:2.0
PRODID:-//Plone.org//NONSGML plone.app.event//EN
X-WR-TIMEZONE:America/Maceio
BEGIN:VEVENT
SUMMARY:Banca de Defesa de Dissertação
DTSTART;TZID=America/Maceio:20200212T110000
DTEND;TZID=America/Maceio:20200212T130000
DTSTAMP:20260420T174848Z
UID:70ae14297bba47ee96357a268fdbd237@ip.ufal.br
ATTENDEE;CN="Banca Examinadora: Profa. Dra. Adélia Augusta Souto de Olive
 ira (Orientadora)/(Presidente);";ROLE=REQ-PARTICIPANT:Banca Examinadora: P
 rofa. Dra. Adélia Augusta Souto de Oliveira (Orientadora)/(Presidente);
ATTENDEE;CN="Profa. Dra. Claisy Maria Marinho Araújo (PG-PDS/UNB-DF);";RO
 LE=REQ-PARTICIPANT:Profa. Dra. Claisy Maria Marinho Araújo (PG-PDS/UNB-DF
 );
ATTENDEE;CN="Profa. Dra. Profa. Dra. Paula Orchiucci Miura (PPGP/UFAL).";R
 OLE=REQ-PARTICIPANT:Profa. Dra. Profa. Dra. Paula Orchiucci Miura (PPGP/UF
 AL).
CREATED:20200124T180550Z
DESCRIPTION:Banca de Defesa de Dissertação para obtenção do título de
  Mestre de Lucélia Maria Lima da Silva Gomes\, com o título: "Psicologia
 \, assistência estudantil e ensino superior: uma análise sócio-históri
 ca".
LAST-MODIFIED:20250702T221509Z
LOCATION:Sala 33\, no Instituto de Psicologia da UFAL.
URL:https://ip.ufal.br/pt-br/pos-graduacao/pospsico/institucional/calendar
 io-de-defesas/defesas-2020/banca-de-defesa-de-dissertacao
END:VEVENT
BEGIN:VTIMEZONE
TZID:America/Maceio
X-LIC-LOCATION:America/Maceio
BEGIN:STANDARD
DTSTART:20020216T230000
TZNAME:-03
TZOFFSETFROM:-0200
TZOFFSETTO:-0300
END:STANDARD
END:VTIMEZONE
END:VCALENDAR
