BEGIN:VCALENDAR
VERSION:2.0
PRODID:-//Plone.org//NONSGML plone.app.event//EN
X-WR-TIMEZONE:America/Maceio
BEGIN:VEVENT
SUMMARY:Banca de Defesa de Dissertação
DTSTART;TZID=America/Maceio:20201030T140000
DTEND;TZID=America/Maceio:20201030T160000
DTSTAMP:20260420T174847Z
UID:43d75347b7ef4c96b9b9022b9ca74d65@ip.ufal.br
ATTENDEE;CN="Banca Examinadora: Profa. Dra. Sheyla Christine Santos Fernan
 des (Orientadora/Presidente);";ROLE=REQ-PARTICIPANT:Banca Examinadora: Pro
 fa. Dra. Sheyla Christine Santos Fernandes (Orientadora/Presidente);
ATTENDEE;CN="Prof. Dr. Marcos Emanoel Pereira (UFBA);";ROLE=REQ-PARTICIPAN
 T:Prof. Dr. Marcos Emanoel Pereira (UFBA);
ATTENDEE;CN="Prof. Dr. Leogildo Alves Freires (PPGP/UFAL).";ROLE=REQ-PARTI
 CIPANT:Prof. Dr. Leogildo Alves Freires (PPGP/UFAL).
CREATED:20201019T124756Z
DESCRIPTION:Banca de Defesa de Dissertação para obtenção do título de
  Mestre de KATHLEEN CAROLINE DE LIMA CARLOS\, com o título: " ANÁLISE DE
  REDES SOCIAIS E CRENÇAS SOBRE O PRECONCEITO E A DISCRIMINAÇÃO RACIAL N
 O BRASIL: UM DIÁLOGO POSSÍVEL".
LAST-MODIFIED:20250702T221509Z
LOCATION:Webconferência pelo Google Meet
URL:https://ip.ufal.br/pt-br/pos-graduacao/pospsico/institucional/calendar
 io-de-defesas/defesas-2020/banca-de-defesa-de-dissertacao-9
END:VEVENT
BEGIN:VTIMEZONE
TZID:America/Maceio
X-LIC-LOCATION:America/Maceio
BEGIN:STANDARD
DTSTART:20020216T230000
TZNAME:-03
TZOFFSETFROM:-0200
TZOFFSETTO:-0300
END:STANDARD
END:VTIMEZONE
END:VCALENDAR
