BEGIN:VCALENDAR
VERSION:2.0
PRODID:-//Plone.org//NONSGML plone.app.event//EN
X-WR-TIMEZONE:America/Maceio
BEGIN:VEVENT
SUMMARY:Banca de Defesa de Dissertação
DTSTART;TZID=America/Maceio:20201027T140000
DTEND;TZID=America/Maceio:20201027T160000
DTSTAMP:20260420T182400Z
UID:7e15b43c4458441bbec62174934ba824@ip.ufal.br
ATTENDEE;CN="Banca Examinadora: Prof. Dr. Frederico Alves Costa (Orientado
 r/Presidente);";ROLE=REQ-PARTICIPANT:Banca Examinadora: Prof. Dr. Frederic
 o Alves Costa (Orientador/Presidente);
ATTENDEE;CN="Prof. Dr. Adolfo Pizzinato (UFRGS);";ROLE=REQ-PARTICIPANT:Pro
 f. Dr. Adolfo Pizzinato (UFRGS);
ATTENDEE;CN="Profa. Dra. Kátia Maheirie (UFSC).";ROLE=REQ-PARTICIPANT:Pro
 fa. Dra. Kátia Maheirie (UFSC).
CREATED:20201019T123836Z
DESCRIPTION:Banca de Defesa de Dissertação para obtenção do título de
  Mestre de WAGNER LEITE DE SOUZA\, com o título: "PROGRAMA BOLSA FAMÍLIA
  (PBF): CONSTRUÇÕES DISCURSIVAS DE EX-PARTICIPANTES RESIDENTES EM ALAGOA
 S".
LAST-MODIFIED:20250702T221509Z
LOCATION:Webconferência pelo Google Meet
URL:https://ip.ufal.br/pt-br/pos-graduacao/pospsico/institucional/calendar
 io-de-defesas/defesas-2020/banca-de-defesa-de-dissertacao-8
END:VEVENT
BEGIN:VTIMEZONE
TZID:America/Maceio
X-LIC-LOCATION:America/Maceio
BEGIN:STANDARD
DTSTART:20020216T230000
TZNAME:-03
TZOFFSETFROM:-0200
TZOFFSETTO:-0300
END:STANDARD
END:VTIMEZONE
END:VCALENDAR
