BEGIN:VCALENDAR
VERSION:2.0
PRODID:-//Plone.org//NONSGML plone.app.event//EN
X-WR-TIMEZONE:America/Maceio
BEGIN:VEVENT
SUMMARY:Banca de Defesa de Dissertação
DTSTART;TZID=America/Maceio:20201022T090000
DTEND;TZID=America/Maceio:20201022T110000
DTSTAMP:20260420T174847Z
UID:f2691befb05b4a54a8c98bcda2612cbc@ip.ufal.br
ATTENDEE;CN="Banca Examinadora: Prof. Dr. Marcos Ribeiro Mesquita (Orienta
 dor/Presidente);";ROLE=REQ-PARTICIPANT:Banca Examinadora: Prof. Dr. Marcos
  Ribeiro Mesquita (Orientador/Presidente);
ATTENDEE;CN="Profa. Dra. Lia Vainer Schucman (UFSC);";ROLE=REQ-PARTICIPANT
 :Profa. Dra. Lia Vainer Schucman (UFSC);
ATTENDEE;CN="Profa. Dra. Érika Cecília Soares Oliveira (PPGP/UFAL).";ROL
 E=REQ-PARTICIPANT:Profa. Dra. Érika Cecília Soares Oliveira (PPGP/UFAL).
CREATED:20200928T164947Z
DESCRIPTION:Banca de Defesa de Dissertação para obtenção do título de
  Mestre de DEBORA CRISTINA DA SILVA ALVES\, com o título: " A CONSTRUÇÃ
 O DOS SENTIDOS DE SER NEGRA/O: EXPERIÊNCIAS DE RACISMO NAS TRAJETÓRIAS D
 E ESTUDANTES DO ENSINO MÉDIO".
LAST-MODIFIED:20250702T221509Z
LOCATION:Webconferência pelo Google Meet
URL:https://ip.ufal.br/pt-br/pos-graduacao/pospsico/institucional/calendar
 io-de-defesas/defesas-2020/banca-de-defesa-de-dissertacao-7
END:VEVENT
BEGIN:VTIMEZONE
TZID:America/Maceio
X-LIC-LOCATION:America/Maceio
BEGIN:STANDARD
DTSTART:20020216T230000
TZNAME:-03
TZOFFSETFROM:-0200
TZOFFSETTO:-0300
END:STANDARD
END:VTIMEZONE
END:VCALENDAR
