BEGIN:VCALENDAR
VERSION:2.0
PRODID:-//Plone.org//NONSGML plone.app.event//EN
X-WR-TIMEZONE:America/Maceio
BEGIN:VEVENT
SUMMARY:Banca de Defesa de Dissertação
DTSTART;TZID=America/Maceio:20201013T140000
DTEND;TZID=America/Maceio:20201013T160000
DTSTAMP:20260420T135936Z
UID:2a6f3a6ca93946c28181a651831a5850@ip.ufal.br
ATTENDEE;CN="Banca Examinadora: Prof. Dr. Frederico Alves Costa  (Orientad
 or/Presidente);";ROLE=REQ-PARTICIPANT:Banca Examinadora: Prof. Dr. Frederi
 co Alves Costa  (Orientador/Presidente);
ATTENDEE;CN="Prof. Dr. Marco Aurélio Máximo Prado (UFMG);";ROLE=REQ-PART
 ICIPANT:Prof. Dr. Marco Aurélio Máximo Prado (UFMG);
ATTENDEE;CN="Prof. Dr. Cleyton Sidney de Andrade (PPGP/UFAL).";ROLE=REQ-PA
 RTICIPANT:Prof. Dr. Cleyton Sidney de Andrade (PPGP/UFAL).
CREATED:20200928T160213Z
DESCRIPTION:Banca de Defesa de Dissertação para obtenção do título de
  Mestre de DEIVSON FILIPE BARROS DA SILVA\, com o título: "TEORIA LACLAUN
 IANA E PSICANÁLISE: UMA ANÁLISE DAS ARTICULAÇÕES TEÓRICAS NO PENSAMEN
 TO DE ERNESTO LACLAU".
LAST-MODIFIED:20250702T221509Z
LOCATION:Webconferência pelo Google Meet
URL:https://ip.ufal.br/pt-br/pos-graduacao/pospsico/institucional/calendar
 io-de-defesas/defesas-2020/banca-de-defesa-de-dissertacao-5
END:VEVENT
BEGIN:VTIMEZONE
TZID:America/Maceio
X-LIC-LOCATION:America/Maceio
BEGIN:STANDARD
DTSTART:20020216T230000
TZNAME:-03
TZOFFSETFROM:-0200
TZOFFSETTO:-0300
END:STANDARD
END:VTIMEZONE
END:VCALENDAR
