BEGIN:VCALENDAR
VERSION:2.0
PRODID:-//Plone.org//NONSGML plone.app.event//EN
X-WR-TIMEZONE:America/Maceio
BEGIN:VEVENT
SUMMARY:Banca de Defesa de Dissertação
DTSTART;TZID=America/Maceio:20200817T140000
DTEND;TZID=America/Maceio:20200817T160000
DTSTAMP:20260420T174847Z
UID:240a272653c14bfcb0d96f6a28b84e4f@ip.ufal.br
ATTENDEE;CN="Banca Examinadora: Profa. Dra. Érika Cecília Soares Oliveir
 a (Orientadora/Presidente);";ROLE=REQ-PARTICIPANT:Banca Examinadora: Profa
 . Dra. Érika Cecília Soares Oliveira (Orientadora/Presidente);
ATTENDEE;CN="Prof. Dr. Jáder Ferreira Leite (UFRN);";ROLE=REQ-PARTICIPANT
 :Prof. Dr. Jáder Ferreira Leite (UFRN);
ATTENDEE;CN="Prof. Dr. Saulo Luders Fernandes (PPGP/UFAL).";ROLE=REQ-PARTI
 CIPANT:Prof. Dr. Saulo Luders Fernandes (PPGP/UFAL).
CREATED:20200918T163645Z
DESCRIPTION:Banca de Defesa de Dissertação para obtenção do título de
  Mestre de JULYANNA DE MELO RIBEIRO\, com o título: "O saber-existência 
 das mulheres rurais: histórias de vida a partir dos feminismos subalterno
 s e decoloniais".
LAST-MODIFIED:20250702T221509Z
LOCATION:Webconferência pelo Google Meet
URL:https://ip.ufal.br/pt-br/pos-graduacao/pospsico/institucional/calendar
 io-de-defesas/defesas-2020/banca-de-defesa-de-dissertacao-4
END:VEVENT
BEGIN:VTIMEZONE
TZID:America/Maceio
X-LIC-LOCATION:America/Maceio
BEGIN:STANDARD
DTSTART:20020216T230000
TZNAME:-03
TZOFFSETFROM:-0200
TZOFFSETTO:-0300
END:STANDARD
END:VTIMEZONE
END:VCALENDAR
