BEGIN:VCALENDAR
VERSION:2.0
PRODID:-//Plone.org//NONSGML plone.app.event//EN
X-WR-TIMEZONE:America/Maceio
BEGIN:VEVENT
SUMMARY:Banca de Defesa de Dissertação
DTSTART;TZID=America/Maceio:20200814T140000
DTEND;TZID=America/Maceio:20200814T160000
DTSTAMP:20260420T174848Z
UID:acf0c2e2e0554d6f999634b029d4d234@ip.ufal.br
ATTENDEE;CN="Banca Examinadora: Profa. Dra. Paula Orchiucci Miura (Orienta
 dora/Presidente);";ROLE=REQ-PARTICIPANT:Banca Examinadora: Profa. Dra. Pau
 la Orchiucci Miura (Orientadora/Presidente);
ATTENDEE;CN="Profa. Dra. Dora Mariela Salcedo Barrientos (USP);";ROLE=REQ-
 PARTICIPANT:Profa. Dra. Dora Mariela Salcedo Barrientos (USP);
ATTENDEE;CN="Profa. Dra. Adélia Augusta Souto de Oliveira (PPGP/UFAL).";R
 OLE=REQ-PARTICIPANT:Profa. Dra. Adélia Augusta Souto de Oliveira (PPGP/UF
 AL).
CREATED:20200918T144514Z
DESCRIPTION:Banca de Defesa de Dissertação para obtenção do título de
  Mestre de ALINNE FERREIRA DA SILVA\, com o título: "Adoção sob a persp
 ectiva de pais adotivos".
LAST-MODIFIED:20250702T221509Z
LOCATION:Webconferência
URL:https://ip.ufal.br/pt-br/pos-graduacao/pospsico/institucional/calendar
 io-de-defesas/defesas-2020/banca-de-defesa-de-dissertacao-3
END:VEVENT
BEGIN:VTIMEZONE
TZID:America/Maceio
X-LIC-LOCATION:America/Maceio
BEGIN:STANDARD
DTSTART:20020216T230000
TZNAME:-03
TZOFFSETFROM:-0200
TZOFFSETTO:-0300
END:STANDARD
END:VTIMEZONE
END:VCALENDAR
