BEGIN:VCALENDAR
VERSION:2.0
PRODID:-//Plone.org//NONSGML plone.app.event//EN
X-WR-TIMEZONE:America/Maceio
BEGIN:VEVENT
SUMMARY:Banca de Defesa de Dissertação
DTSTART;TZID=America/Maceio:20200319T150000
DTEND;TZID=America/Maceio:20200319T170000
DTSTAMP:20260420T172442Z
UID:59e7a9598de34d9fb4999286eb7896d8@ip.ufal.br
ATTENDEE;CN="Banca Examinadora: Prof. Dr. Cleyton Sidney de Andrade (Orien
 tador/Presidente);";ROLE=REQ-PARTICIPANT:Banca Examinadora: Prof. Dr. Cley
 ton Sidney de Andrade (Orientador/Presidente);
ATTENDEE;CN="Prof. Dr. Gilson de Paulo Moreira Iannini (UFMG);";ROLE=REQ-P
 ARTICIPANT:Prof. Dr. Gilson de Paulo Moreira Iannini (UFMG);
ATTENDEE;CN="Profa. Dra. Susane Vasconcelos Zanotti (PPGP/UFAL).";ROLE=REQ
 -PARTICIPANT:Profa. Dra. Susane Vasconcelos Zanotti (PPGP/UFAL).
CREATED:20200227T150918Z
DESCRIPTION:Banca de Defesa de Dissertação para obtenção do título de
  Mestre de Inácio Antônio Silva de Mariz\, com o título: "PSICANÁLISE\
 , NEOLIBERALISMO E O SUJEITO PARA ALÉM DA RACIONALIDADE TOTALIZANTE".
LAST-MODIFIED:20250702T221509Z
LOCATION:SALA 33 DO INSTITUTO DE PSICOLOGIA/UFAL
URL:https://ip.ufal.br/pt-br/pos-graduacao/pospsico/institucional/calendar
 io-de-defesas/defesas-2020/banca-de-defesa-de-dissertacao-2
END:VEVENT
BEGIN:VTIMEZONE
TZID:America/Maceio
X-LIC-LOCATION:America/Maceio
BEGIN:STANDARD
DTSTART:20020216T230000
TZNAME:-03
TZOFFSETFROM:-0200
TZOFFSETTO:-0300
END:STANDARD
END:VTIMEZONE
END:VCALENDAR
