BEGIN:VCALENDAR
VERSION:2.0
PRODID:-//Plone.org//NONSGML plone.app.event//EN
X-WR-TIMEZONE:America/Maceio
BEGIN:VEVENT
SUMMARY:Banca de Defesa de Dissertação
DTSTART;TZID=America/Maceio:20201127T140000
DTEND;TZID=America/Maceio:20201127T160000
DTSTAMP:20260420T152425Z
UID:10cd8e000a1c4aa298001ff0720ada07@ip.ufal.br
ATTENDEE;CN="Profa. Dra. Adélia Augusta Souto de Oliveira (orientadora);"
 ;ROLE=REQ-PARTICIPANT:Profa. Dra. Adélia Augusta Souto de Oliveira (orien
 tadora);
ATTENDEE;CN="Prof. Dr. José Leon Crochik (UNIFESP);";ROLE=REQ-PARTICIPANT
 :Prof. Dr. José Leon Crochik (UNIFESP);
ATTENDEE;CN="Profa. Dra. Bader Burihan Sawaia (PUC-SP);";ROLE=REQ-PARTICIP
 ANT:Profa. Dra. Bader Burihan Sawaia (PUC-SP);
ATTENDEE;CN="Profa. Dra. Elaine Cristina Pimentel Costa (FDA/UFAL);";ROLE=
 REQ-PARTICIPANT:Profa. Dra. Elaine Cristina Pimentel Costa (FDA/UFAL);
ATTENDEE;CN="Profa. Dra. Paula Orchiucci Miura (PPGP/UFAL).";ROLE=REQ-PART
 ICIPANT:Profa. Dra. Paula Orchiucci Miura (PPGP/UFAL).
CREATED:20201124T171414Z
DESCRIPTION:Banca de Defesa de Dissertação para obtenção do título de
  Mestre de CAMILA DOS ANJOS FALCÃO\, com o título:\n"O PROCESSO DE SIGNI
 FICAÇÃO DA TEMÁTICA “PRECONCEITO” NO DIREITO E NA PSICOLOGIA: HISTO
 RICIDADE E ESTRUTURAÇÃO EM DEBATE".
LAST-MODIFIED:20250702T221509Z
LOCATION:Webconferência pelo Google Meet
URL:https://ip.ufal.br/pt-br/pos-graduacao/pospsico/institucional/calendar
 io-de-defesas/defesas-2020/banca-de-defesa-de-dissertacao-11
END:VEVENT
BEGIN:VTIMEZONE
TZID:America/Maceio
X-LIC-LOCATION:America/Maceio
BEGIN:STANDARD
DTSTART:20020216T230000
TZNAME:-03
TZOFFSETFROM:-0200
TZOFFSETTO:-0300
END:STANDARD
END:VTIMEZONE
END:VCALENDAR
