BEGIN:VCALENDAR
VERSION:2.0
PRODID:-//Plone.org//NONSGML plone.app.event//EN
X-WR-TIMEZONE:America/Maceio
BEGIN:VEVENT
SUMMARY:Banca de Defesa de Dissertação
DTSTART;TZID=America/Maceio:20201106T140000
DTEND;TZID=America/Maceio:20201106T160000
DTSTAMP:20260420T170304Z
UID:d9972aa84ef9477ebf7b7403e7452109@ip.ufal.br
ATTENDEE;CN="Banca Examinadora: Profa. Dra. Simone Maria Hüning  (Orienta
 dora/Presidente);";ROLE=REQ-PARTICIPANT:Banca Examinadora: Profa. Dra. Sim
 one Maria Hüning  (Orientadora/Presidente);
ATTENDEE;CN="Profa. Dra. Veridiana Chiari Gatto (IFAL)";ROLE=REQ-PARTICIPA
 NT:Profa. Dra. Veridiana Chiari Gatto (IFAL)
ATTENDEE;CN="Profa. Dra. Lígia dos Santos Ferreira  (FALE/UFAL)";ROLE=REQ
 -PARTICIPANT:Profa. Dra. Lígia dos Santos Ferreira  (FALE/UFAL)
ATTENDEE;CN="Profa. Dra. Maria Auxiliadora Teixeira Ribeiro (PPGP/UFAL)";R
 OLE=REQ-PARTICIPANT:Profa. Dra. Maria Auxiliadora Teixeira Ribeiro (PPGP/U
 FAL)
CREATED:20201124T163548Z
DESCRIPTION:Banca de Defesa de Dissertação para obtenção do título de
  Mestre de ROSÂNGELA JACINTO CABRAL\, com o título: "TERRITÓRIOS E ESCR
 EVIVÊNCIAS DO E SOBRE O CORPO DE MULHERES NEGRAS".
LAST-MODIFIED:20250702T221509Z
LOCATION:Webconferência pelo Google Meet
URL:https://ip.ufal.br/pt-br/pos-graduacao/pospsico/institucional/calendar
 io-de-defesas/defesas-2020/banca-de-defesa-de-dissertacao-10
END:VEVENT
BEGIN:VTIMEZONE
TZID:America/Maceio
X-LIC-LOCATION:America/Maceio
BEGIN:STANDARD
DTSTART:20020216T230000
TZNAME:-03
TZOFFSETFROM:-0200
TZOFFSETTO:-0300
END:STANDARD
END:VTIMEZONE
END:VCALENDAR
