BEGIN:VCALENDAR
VERSION:2.0
PRODID:-//Plone.org//NONSGML plone.app.event//EN
X-WR-TIMEZONE:America/Maceio
BEGIN:VEVENT
SUMMARY:Banca de Defesa de Dissertação
DTSTART;TZID=America/Maceio:20200316T090000
DTEND;TZID=America/Maceio:20200316T110000
DTSTAMP:20260420T182400Z
UID:5d33a46e53ed4796873bff21d2ebce9d@ip.ufal.br
ATTENDEE;CN="Banca Examinadora: Prof. Dr. Cleyton Sidney Andrade(Orientado
 r/Presidente);";ROLE=REQ-PARTICIPANT:Banca Examinadora: Prof. Dr. Cleyton 
 Sidney Andrade(Orientador/Presidente);
ATTENDEE;CN="Profa. Dra. Márcia Angelita Tiburi (Universidade de Paris VI
 II)";ROLE=REQ-PARTICIPANT:Profa. Dra. Márcia Angelita Tiburi (Universidad
 e de Paris VIII)
ATTENDEE;CN="Prof. Dr. Guilherme Massara Rocha (UFMG);";ROLE=REQ-PARTICIPA
 NT:Prof. Dr. Guilherme Massara Rocha (UFMG);
ATTENDEE;CN="Profa. Dra. Susane Vasconcelos Zanotti (PPGP/UFAL).";ROLE=REQ
 -PARTICIPANT:Profa. Dra. Susane Vasconcelos Zanotti (PPGP/UFAL).
CREATED:20200227T150220Z
DESCRIPTION:Banca de Defesa de Dissertação para obtenção do título de
  Mestre de Edcarla Melissa de Oliveira Barboza\, com o título: "QUANDO N
 ÃO HÁ ACONTECIMENTO: a defesa contra os efeitos do real".
LAST-MODIFIED:20250702T221509Z
LOCATION:SALA 33 DO INSTITUTO DE PSICOLOGIA/UFAL
URL:https://ip.ufal.br/pt-br/pos-graduacao/pospsico/institucional/calendar
 io-de-defesas/defesas-2020/banca-de-defesa-de-dissertacao-1
END:VEVENT
BEGIN:VTIMEZONE
TZID:America/Maceio
X-LIC-LOCATION:America/Maceio
BEGIN:STANDARD
DTSTART:20020216T230000
TZNAME:-03
TZOFFSETFROM:-0200
TZOFFSETTO:-0300
END:STANDARD
END:VTIMEZONE
END:VCALENDAR
