BEGIN:VCALENDAR
VERSION:2.0
PRODID:-//Plone.org//NONSGML plone.app.event//EN
X-WR-TIMEZONE:America/Maceio
BEGIN:VEVENT
SUMMARY:Banca de defesa de dissertação
DTSTART;TZID=America/Maceio:20170130T143000
DTEND;TZID=America/Maceio:20170130T153000
DTSTAMP:20260420T233439Z
UID:1a9b6a2b60ca4a5b85018a0c7b3f2127@ip.ufal.br
ATTENDEE;CN="Banca Examinadora: Profa. Dra. Nadja Maria Vieira da Silva (O
 rientadora);";ROLE=REQ-PARTICIPANT:Banca Examinadora: Profa. Dra. Nadja Ma
 ria Vieira da Silva (Orientadora);
ATTENDEE;CN="Profa. Dra. Telma Low Silva Junqueira (IP/UFAL)";ROLE=REQ-PAR
 TICIPANT:Profa. Dra. Telma Low Silva Junqueira (IP/UFAL)
ATTENDEE;CN="Profa. Dra. Josineide Francisco Sampaio (FAMED/UFAL)";ROLE=RE
 Q-PARTICIPANT:Profa. Dra. Josineide Francisco Sampaio (FAMED/UFAL)
CREATED:20170118T132614Z
DESCRIPTION:Banca de defesa de dissertação para obtenção do título de
  Mestre de Éricka Patrícia Santos Feitosa Aquino. Título: "Autorretrato
  de Crianças em Internação Hospitalar: Considerações para Pesquisa so
 bre o Funcionamento Psicológico Infantil."
LAST-MODIFIED:20250702T221510Z
LOCATION:Sala nº33 do Instituto de Psicologia
URL:https://ip.ufal.br/pt-br/pos-graduacao/pospsico/institucional/calendar
 io-de-defesas/defesas-2017-1/banca-de-defesa-de-dissertacao
END:VEVENT
BEGIN:VTIMEZONE
TZID:America/Maceio
X-LIC-LOCATION:America/Maceio
BEGIN:STANDARD
DTSTART:20020216T230000
TZNAME:-03
TZOFFSETFROM:-0200
TZOFFSETTO:-0300
END:STANDARD
END:VTIMEZONE
END:VCALENDAR
