BEGIN:VCALENDAR
VERSION:2.0
PRODID:-//Plone.org//NONSGML plone.app.event//EN
X-WR-TIMEZONE:America/Maceio
BEGIN:VEVENT
SUMMARY:Banca de Defesa de Dissertação
DTSTART;TZID=America/Maceio:20171030T140000
DTEND;TZID=America/Maceio:20171030T150000
DTSTAMP:20260420T233439Z
UID:cead294aab144eb2a02f26c7c4a583da@ip.ufal.br
ATTENDEE;CN="Banca Examinadora: Prof.ª Dr.ª Susane Vasconcelos Zanotti (
 Orientadora);";ROLE=REQ-PARTICIPANT:Banca Examinadora: Prof.ª Dr.ª Susan
 e Vasconcelos Zanotti (Orientadora);
ATTENDEE;CN="Prof.ª Dr.ª Heliane de Almeida Lins Leitão (PPGP/UFAL);";R
 OLE=REQ-PARTICIPANT:Prof.ª Dr.ª Heliane de Almeida Lins Leitão (PPGP/UF
 AL);
ATTENDEE;CN="Prof.ª Dr.ª Isabella Lopes Monlleó (ICBS/UFAL).";ROLE=REQ-
 PARTICIPANT:Prof.ª Dr.ª Isabella Lopes Monlleó (ICBS/UFAL).
CREATED:20171011T132538Z
DESCRIPTION:Banca de Defesa de Dissertação para obtenção do título de
  Mestre de Fabíola Brandão da Silva\, com o título: "O nome próprio na
  Clínica de Ambiguidade Genital."
LAST-MODIFIED:20250702T221511Z
LOCATION:Sala nº 33 do Instituto de Psicologia
URL:https://ip.ufal.br/pt-br/pos-graduacao/pospsico/institucional/calendar
 io-de-defesas/defesas-2017-1/banca-de-defesa-de-dissertacao-9
END:VEVENT
BEGIN:VTIMEZONE
TZID:America/Maceio
X-LIC-LOCATION:America/Maceio
BEGIN:STANDARD
DTSTART:20020216T230000
TZNAME:-03
TZOFFSETFROM:-0200
TZOFFSETTO:-0300
END:STANDARD
END:VTIMEZONE
END:VCALENDAR
