BEGIN:VCALENDAR
VERSION:2.0
PRODID:-//Plone.org//NONSGML plone.app.event//EN
X-WR-TIMEZONE:America/Maceio
BEGIN:VEVENT
SUMMARY:Banca de Defesa de Dissertação
DTSTART;TZID=America/Maceio:20170929T140000
DTEND;TZID=America/Maceio:20170929T170000
DTSTAMP:20260420T233439Z
UID:a805028d27e54dd8937c3d2bc0eec4bf@ip.ufal.br
ATTENDEE;CN="Banca Examinadora: Prof. Dr. Jefferson de Souza Bernardes (Or
 ientador);";ROLE=REQ-PARTICIPANT:Banca Examinadora: Prof. Dr. Jefferson de
  Souza Bernardes (Orientador);
ATTENDEE;CN="Prof. Dr. Charles Elias Lang (PPGP/UFAL);";ROLE=REQ-PARTICIPA
 NT:Prof. Dr. Charles Elias Lang (PPGP/UFAL);
ATTENDEE;CN="Prof.ª Dr.ª Telma Low Silva Junqueira (IP/UFAL).";ROLE=REQ-
 PARTICIPANT:Prof.ª Dr.ª Telma Low Silva Junqueira (IP/UFAL).
CREATED:20170927T180839Z
DESCRIPTION:Banca de Dissertação para obtenção do título de Mestre de
  Adriano Roberto Alves da Silva\, com o título: "Conversas com usuários 
 do Consultório na Rua de Maceió sobre o cuidado prestado por meio dos di
 spositivos de saúde".
LAST-MODIFIED:20250702T221511Z
LOCATION:Sala de reuniões nº 02 - LCCV/UFAL
URL:https://ip.ufal.br/pt-br/pos-graduacao/pospsico/institucional/calendar
 io-de-defesas/defesas-2017-1/banca-de-defesa-de-dissertacao-8
END:VEVENT
BEGIN:VTIMEZONE
TZID:America/Maceio
X-LIC-LOCATION:America/Maceio
BEGIN:STANDARD
DTSTART:20020216T230000
TZNAME:-03
TZOFFSETFROM:-0200
TZOFFSETTO:-0300
END:STANDARD
END:VTIMEZONE
END:VCALENDAR
