BEGIN:VCALENDAR
VERSION:2.0
PRODID:-//Plone.org//NONSGML plone.app.event//EN
X-WR-TIMEZONE:America/Maceio
BEGIN:VEVENT
SUMMARY:Banca de Defesa de Dissertação
DTSTART;TZID=America/Maceio:20170927T093000
DTEND;TZID=America/Maceio:20170927T101000
DTSTAMP:20260420T185759Z
UID:df5907e66ff34b7583327b1e13118dd4@ip.ufal.br
ATTENDEE;CN="Orientador: Prof. Dr. Raner Miguel Ferreira Póvoa;";ROLE=REQ
 -PARTICIPANT:Orientador: Prof. Dr. Raner Miguel Ferreira Póvoa;
ATTENDEE;CN="Banca Examinadora:Prof.ª Dr.ª Sheyla Christine Santos Ferna
 ndes (Presidente);";ROLE=REQ-PARTICIPANT:Banca Examinadora:Prof.ª Dr.ª S
 heyla Christine Santos Fernandes (Presidente);
ATTENDEE;CN="Prof. Dr. Jorge Artur Peçanha de Miranda Coelho (FAMED/UFAL)
 ";ROLE=REQ-PARTICIPANT:Prof. Dr. Jorge Artur Peçanha de Miranda Coelho (F
 AMED/UFAL)
ATTENDEE;CN="Prof. Dr. Valfrido Leão de Melo Neto (FAMED/UFAL).";ROLE=REQ
 -PARTICIPANT:Prof. Dr. Valfrido Leão de Melo Neto (FAMED/UFAL).
CREATED:20170922T130313Z
DESCRIPTION:Banca de Dissertação para obtenção do título de Mestre de
  Priscila Barbosa Bezerra\, com o título: "A relação entre agressividad
 e\, funções executivas e comportamento antissocial em universitários".
LAST-MODIFIED:20250702T221511Z
LOCATION:Sala nº 33 do Instituto de Psicologia
URL:https://ip.ufal.br/pt-br/pos-graduacao/pospsico/institucional/calendar
 io-de-defesas/defesas-2017-1/banca-de-defesa-de-dissertacao-7
END:VEVENT
BEGIN:VTIMEZONE
TZID:America/Maceio
X-LIC-LOCATION:America/Maceio
BEGIN:STANDARD
DTSTART:20020216T230000
TZNAME:-03
TZOFFSETFROM:-0200
TZOFFSETTO:-0300
END:STANDARD
END:VTIMEZONE
END:VCALENDAR
