BEGIN:VCALENDAR
VERSION:2.0
PRODID:-//Plone.org//NONSGML plone.app.event//EN
X-WR-TIMEZONE:America/Maceio
BEGIN:VEVENT
SUMMARY:Banca de Defesa de Dissertação
DTSTART;TZID=America/Maceio:20170918T140000
DTEND;TZID=America/Maceio:20170918T150000
DTSTAMP:20260420T185758Z
UID:00a3704e11944f98ab51228bbf35e2b2@ip.ufal.br
ATTENDEE;CN="Banca Examinadora: Prof.ª Dr.ª Heliane de Almeida Lins Leit
 ão (Orientadora);";ROLE=REQ-PARTICIPANT:Banca Examinadora: Prof.ª Dr.ª 
 Heliane de Almeida Lins Leitão (Orientadora);
ATTENDEE;CN="Prof.ª Paula Orchiucci Miura (PPGP/UFAL);";ROLE=REQ-PARTICIP
 ANT:Prof.ª Paula Orchiucci Miura (PPGP/UFAL);
ATTENDEE;CN="Prof.ª Isabella Lopes Monlleó (ICBS).";ROLE=REQ-PARTICIPANT
 :Prof.ª Isabella Lopes Monlleó (ICBS).
CREATED:20170911T144723Z
DESCRIPTION:Banca de Dissertação para obtenção do título de Mestre de
   Anne Karoline Temóteo dos Santos\, com o título: "Da decepção à esp
 erança: o olhar da mãe para seu bebê com fenda OroFacial (FOF)".
LAST-MODIFIED:20250702T221511Z
LOCATION:Sala nº 33 do Instituto de Psicologia
URL:https://ip.ufal.br/pt-br/pos-graduacao/pospsico/institucional/calendar
 io-de-defesas/defesas-2017-1/banca-de-defesa-de-dissertacao-6
END:VEVENT
BEGIN:VTIMEZONE
TZID:America/Maceio
X-LIC-LOCATION:America/Maceio
BEGIN:STANDARD
DTSTART:20020216T230000
TZNAME:-03
TZOFFSETFROM:-0200
TZOFFSETTO:-0300
END:STANDARD
END:VTIMEZONE
END:VCALENDAR
