BEGIN:VCALENDAR
VERSION:2.0
PRODID:-//Plone.org//NONSGML plone.app.event//EN
X-WR-TIMEZONE:America/Maceio
BEGIN:VEVENT
SUMMARY:Banca de Defesa de Dissertação
DTSTART;TZID=America/Maceio:20170329T100000
DTEND;TZID=America/Maceio:20170329T100000
DTSTAMP:20260420T185759Z
UID:d2c701cf51c643fd90e0474040fc1c3b@ip.ufal.br
ATTENDEE;CN="Banca Examinadora: Prof.ª Dr.ª Nadja Maria Vieira da Silva 
 (Orientadora);";ROLE=REQ-PARTICIPANT:Banca Examinadora: Prof.ª Dr.ª Nadj
 a Maria Vieira da Silva (Orientadora);
ATTENDEE;CN="Prof.ª Dr.ª Maria Auxiliadora Teixeira Ribeiro (PPGP/UFAL);
 ";ROLE=REQ-PARTICIPANT:Prof.ª Dr.ª Maria Auxiliadora Teixeira Ribeiro (P
 PGP/UFAL);
ATTENDEE;CN="Prof.ª Dr.ª Maria Dolores Fortes Alves (PPGE/UFAL)";ROLE=RE
 Q-PARTICIPANT:Prof.ª Dr.ª Maria Dolores Fortes Alves (PPGE/UFAL)
CREATED:20170317T123833Z
DESCRIPTION:Banca de Defesa de Dissertação para obtenção do título de
  Mestre de Lara Rani Souto Maior Siqueira Lima. Título: " Self e Literatu
 ra: Considerações sobre o desenvolvimento na educação infantil."
LAST-MODIFIED:20250702T221511Z
LOCATION:Sala nº 33 da Instituto de Psicologia/UFAL
URL:https://ip.ufal.br/pt-br/pos-graduacao/pospsico/institucional/calendar
 io-de-defesas/defesas-2017-1/banca-de-defesa-de-dissertacao-5
END:VEVENT
BEGIN:VTIMEZONE
TZID:America/Maceio
X-LIC-LOCATION:America/Maceio
BEGIN:STANDARD
DTSTART:20020216T230000
TZNAME:-03
TZOFFSETFROM:-0200
TZOFFSETTO:-0300
END:STANDARD
END:VTIMEZONE
END:VCALENDAR
