BEGIN:VCALENDAR
VERSION:2.0
PRODID:-//Plone.org//NONSGML plone.app.event//EN
X-WR-TIMEZONE:America/Maceio
BEGIN:VEVENT
SUMMARY:Banca de Defesa de Dissertação
DTSTART;TZID=America/Maceio:20170327T140000
DTEND;TZID=America/Maceio:20170327T140000
DTSTAMP:20260420T185800Z
UID:58c7cb067dd440eabf6b3f8b86e24848@ip.ufal.br
ATTENDEE;CN="Banca Examinadora: Prof. Dr. Charles Elias Lang (Orientador);
 ";ROLE=REQ-PARTICIPANT:Banca Examinadora: Prof. Dr. Charles Elias Lang (Or
 ientador);
ATTENDEE;CN="Prof.ª Dr.ª Susane Vasconcelos Zanotti (PPGP/UFAL);";ROLE=R
 EQ-PARTICIPANT:Prof.ª Dr.ª Susane Vasconcelos Zanotti (PPGP/UFAL);
ATTENDEE;CN="Prof.ª Dr.ª Marta Regina D. Leão (UFRGS).";ROLE=REQ-PARTIC
 IPANT:Prof.ª Dr.ª Marta Regina D. Leão (UFRGS).
CREATED:20170317T123341Z
DESCRIPTION:Banca de Defesa de Dissertação para obtenção do título de
  Mestre de Hélida Vieira da Silva Xavier. Título: Constituição psíqui
 ca e psicopatologia nos textos do "jovem Lacan".
LAST-MODIFIED:20250702T221510Z
LOCATION:Sala nº 33 da Instituto de Psicologia/UFAL
URL:https://ip.ufal.br/pt-br/pos-graduacao/pospsico/institucional/calendar
 io-de-defesas/defesas-2017-1/banca-de-defesa-de-dissertacao-4
END:VEVENT
BEGIN:VTIMEZONE
TZID:America/Maceio
X-LIC-LOCATION:America/Maceio
BEGIN:STANDARD
DTSTART:20020216T230000
TZNAME:-03
TZOFFSETFROM:-0200
TZOFFSETTO:-0300
END:STANDARD
END:VTIMEZONE
END:VCALENDAR
