BEGIN:VCALENDAR
VERSION:2.0
PRODID:-//Plone.org//NONSGML plone.app.event//EN
X-WR-TIMEZONE:America/Maceio
BEGIN:VEVENT
SUMMARY:Banca de Defesa de Dissertação
DTSTART;TZID=America/Maceio:20170223T140000
DTEND;TZID=America/Maceio:20170223T150000
DTSTAMP:20260420T170304Z
UID:6126d7d2eb28415884d1535462593eb5@ip.ufal.br
ATTENDEE;CN="Banca Examinadora: Prof.ª Dr.ª Adélia Augusta Souto de Oli
 veira (Orientadora);";ROLE=REQ-PARTICIPANT:Banca Examinadora: Prof.ª Dr.
 ª Adélia Augusta Souto de Oliveira (Orientadora);
ATTENDEE;CN="Prof.ª Dr.ª Heliane de Almeida Lins Leitão (PPGP/UFAL);";R
 OLE=REQ-PARTICIPANT:Prof.ª Dr.ª Heliane de Almeida Lins Leitão (PPGP/UF
 AL);
ATTENDEE;CN="Prof.ª Dr.ª Lisandra Espíndula Moreira (UFMG)";ROLE=REQ-PA
 RTICIPANT:Prof.ª Dr.ª Lisandra Espíndula Moreira (UFMG)
CREATED:20170215T110318Z
DESCRIPTION:Banca de Defesa de Dissertação para obtenção de título de
  Mestre de Carolina Gomes Monteiro Souza. Título: " Retratação na Lei M
 aria da Penha: um estudo psicossocial."
LAST-MODIFIED:20250702T221510Z
LOCATION:Sala de reuniões nº 02 - LCCV/UFAL
URL:https://ip.ufal.br/pt-br/pos-graduacao/pospsico/institucional/calendar
 io-de-defesas/defesas-2017-1/banca-de-defesa-de-dissertacao-2
END:VEVENT
BEGIN:VTIMEZONE
TZID:America/Maceio
X-LIC-LOCATION:America/Maceio
BEGIN:STANDARD
DTSTART:20020216T230000
TZNAME:-03
TZOFFSETFROM:-0200
TZOFFSETTO:-0300
END:STANDARD
END:VTIMEZONE
END:VCALENDAR
