BEGIN:VCALENDAR
VERSION:2.0
PRODID:-//Plone.org//NONSGML plone.app.event//EN
X-WR-TIMEZONE:America/Maceio
BEGIN:VEVENT
SUMMARY:Banca de Defesa de Dissertação
DTSTART;TZID=America/Maceio:20171211T140000
DTEND;TZID=America/Maceio:20171211T160000
DTSTAMP:20260420T143702Z
UID:e8b3f666183e4c3dacf977cf1d6b623e@ip.ufal.br
ATTENDEE;CN="Banca Examinadora: Prof. Dr. Raner Miguel Ferreira Póvoa (Or
 ientador);";ROLE=REQ-PARTICIPANT:Banca Examinadora: Prof. Dr. Raner Miguel
  Ferreira Póvoa (Orientador);
ATTENDEE;CN="Prof. Dr. Jorge Artur Peçanha de Miranda Coelho (UFAL)";ROLE
 =REQ-PARTICIPANT:Prof. Dr. Jorge Artur Peçanha de Miranda Coelho (UFAL)
ATTENDEE;CN="Prof. Dr. Valfredo Leão de Melo Neto (UFAL)";ROLE=REQ-PARTIC
 IPANT:Prof. Dr. Valfredo Leão de Melo Neto (UFAL)
CREATED:20180402T161616Z
DESCRIPTION:Banca de defesa de dissertação para obtenção do título de
  Mestre de Katiúscia Karine Martins da Silva. Título: "Avaliação Neuro
 psicológica das Funções Executivas\, Agressividade e Impulsividade em A
 dultos co  Diagnóstico de TDAH ."
LAST-MODIFIED:20250702T221511Z
LOCATION:Instituto de Psicologia\, sala nº 33
URL:https://ip.ufal.br/pt-br/pos-graduacao/pospsico/institucional/calendar
 io-de-defesas/defesas-2017-1/banca-de-defesa-de-dissertacao-11
END:VEVENT
BEGIN:VTIMEZONE
TZID:America/Maceio
X-LIC-LOCATION:America/Maceio
BEGIN:STANDARD
DTSTART:20020216T230000
TZNAME:-03
TZOFFSETFROM:-0200
TZOFFSETTO:-0300
END:STANDARD
END:VTIMEZONE
END:VCALENDAR
