BEGIN:VCALENDAR
VERSION:2.0
PRODID:-//Plone.org//NONSGML plone.app.event//EN
X-WR-TIMEZONE:America/Maceio
BEGIN:VEVENT
SUMMARY:Banca de Defesa de Dissertação
DTSTART;TZID=America/Maceio:20170220T100000
DTEND;TZID=America/Maceio:20170220T110000
DTSTAMP:20260420T203137Z
UID:66c5fd48b9614ffd8e9833adf9d8379b@ip.ufal.br
ATTENDEE;CN="Banca Examinadora: Prof.ª Dr.ª Adélia Augusta Souto de Oli
 veira (Orientadora);";ROLE=REQ-PARTICIPANT:Banca Examinadora: Prof.ª Dr.
 ª Adélia Augusta Souto de Oliveira (Orientadora);
ATTENDEE;CN="Prof.ª Dr.ª Paula Orchiucci Miura (PPGP/UFAL);";ROLE=REQ-PA
 RTICIPANT:Prof.ª Dr.ª Paula Orchiucci Miura (PPGP/UFAL);
ATTENDEE;CN="Prof.ª Dr.ª Sônia Margarida Gomes Sousa (PUC/GÓIAS).";ROL
 E=REQ-PARTICIPANT:Prof.ª Dr.ª Sônia Margarida Gomes Sousa (PUC/GÓIAS).
CREATED:20170215T105834Z
DESCRIPTION:Banca de defesa de Dissertação para obtenção do título de
  Mestre de Lívia Teixeira Canuto. Título: "O conceito de infância em ar
 tigos brasileiros de Psicologia"
LAST-MODIFIED:20250702T221510Z
LOCATION:Sala de reuniões nº 02 - LCCV/UFAL
URL:https://ip.ufal.br/pt-br/pos-graduacao/pospsico/institucional/calendar
 io-de-defesas/defesas-2017-1/banca-de-defesa-de-dissertacao-1
END:VEVENT
BEGIN:VTIMEZONE
TZID:America/Maceio
X-LIC-LOCATION:America/Maceio
BEGIN:STANDARD
DTSTART:20020216T230000
TZNAME:-03
TZOFFSETFROM:-0200
TZOFFSETTO:-0300
END:STANDARD
END:VTIMEZONE
END:VCALENDAR
