BEGIN:VCALENDAR
VERSION:2.0
PRODID:-//Plone.org//NONSGML plone.app.event//EN
X-WR-TIMEZONE:America/Maceio
BEGIN:VEVENT
SUMMARY:Banca de Defesa de Disertação
DTSTART;TZID=America/Maceio:20170814T140000
DTEND;TZID=America/Maceio:20170814T150000
DTSTAMP:20260420T185800Z
UID:649c4792f1544e788fb854b0a0c6772c@ip.ufal.br
ATTENDEE;CN="Orientadora: Prof.ª Dr.ª Simone Maria Hüning (UFAL);";ROLE
 =REQ-PARTICIPANT:Orientadora: Prof.ª Dr.ª Simone Maria Hüning (UFAL);
ATTENDEE;CN="Comissão Examinadora: Prof. Dr. Marcos R. Mesquita (UFAL);";
 ROLE=REQ-PARTICIPANT:Comissão Examinadora: Prof. Dr. Marcos R. Mesquita (
 UFAL);
ATTENDEE;CN="Prof.ª Dr.ª Lisandra Espíndula Moreira (UFSC).";ROLE=REQ-P
 ARTICIPANT:Prof.ª Dr.ª Lisandra Espíndula Moreira (UFSC).
CREATED:20170807T145723Z
DESCRIPTION:Banca de Defesa de Dissertação para obtenção do título de
  Mestre de Erise Veloso de Amorim Padilha\, com o Título de trabalho: "Te
 rritório e subjetividade: uma pesquisa sobre a Comunidade de Pescadores d
 o Jaraguá."
LAST-MODIFIED:20250702T221510Z
LOCATION:Sala nº 33 do Instituto de Psicologia
URL:https://ip.ufal.br/pt-br/pos-graduacao/pospsico/institucional/calendar
 io-de-defesas/defesas-2017-1/banca-de-defesa-de-disertacao
END:VEVENT
BEGIN:VTIMEZONE
TZID:America/Maceio
X-LIC-LOCATION:America/Maceio
BEGIN:STANDARD
DTSTART:20020216T230000
TZNAME:-03
TZOFFSETFROM:-0200
TZOFFSETTO:-0300
END:STANDARD
END:VTIMEZONE
END:VCALENDAR
