BEGIN:VCALENDAR
VERSION:2.0
PRODID:-//Plone.org//NONSGML plone.app.event//EN
X-WR-TIMEZONE:America/Maceio
BEGIN:VEVENT
SUMMARY:Banca de Defesa de Dissertação
DTSTART;TZID=America/Maceio:20170821T140000
DTEND;TZID=America/Maceio:20170821T150000
DTSTAMP:20260420T233439Z
UID:9d49a005b9434e57b1ca90307b607aff@ip.ufal.br
ATTENDEE;CN="Banca Examinadora: Prof.ª Dr.ª Maria Auxiliadora Teixeira R
 ibeiro (Orientadora);";ROLE=REQ-PARTICIPANT:Banca Examinadora: Prof.ª Dr.
 ª Maria Auxiliadora Teixeira Ribeiro (Orientadora);
ATTENDEE;CN="Prof.ª Dr.ª Cristina Camelo Santana (IP/UFAL);";ROLE=REQ-PA
 RTICIPANT:Prof.ª Dr.ª Cristina Camelo Santana (IP/UFAL);
ATTENDEE;CN="Prof.ª Dr.ª Mary Jane Paris Spink (PUC/SP).";ROLE=REQ-PARTI
 CIPANT:Prof.ª Dr.ª Mary Jane Paris Spink (PUC/SP).
CREATED:20170816T183500Z
DESCRIPTION:Banca de Dissertação para obtenção do título de Mestre de
  Renata Laureano da Silva\, com o título: " Apoio Matricial e as versões
  de um grupo de profissionais de saúde". 
LAST-MODIFIED:20250702T221511Z
LOCATION:Sala nº 33 do Instituto de Psicologia
URL:https://ip.ufal.br/pt-br/pos-graduacao/pospsico/institucional/calendar
 io-de-defesas/defesas-2017-1/banca-de-defesa-de-disertacao-1
END:VEVENT
BEGIN:VTIMEZONE
TZID:America/Maceio
X-LIC-LOCATION:America/Maceio
BEGIN:STANDARD
DTSTART:20020216T230000
TZNAME:-03
TZOFFSETFROM:-0200
TZOFFSETTO:-0300
END:STANDARD
END:VTIMEZONE
END:VCALENDAR
