BEGIN:VCALENDAR
VERSION:2.0
PRODID:-//Plone.org//NONSGML plone.app.event//EN
X-WR-TIMEZONE:America/Maceio
BEGIN:VEVENT
SUMMARY:Banca de Defesa de Dissertação
DTSTART;TZID=America/Maceio:20250226T140000
DTEND;TZID=America/Maceio:20250226T160000
DTSTAMP:20260420T172443Z
UID:16488bc01f3b401baea7775ca1b464db@ip.ufal.br
ATTENDEE;CN="MARCOS RIBEIRO MESQUITA, PPGP/UFAL, Orientador-Presidente;";R
 OLE=REQ-PARTICIPANT:MARCOS RIBEIRO MESQUITA, PPGP/UFAL, Orientador-Preside
 nte;
ATTENDEE;CN="ANTONIO CESAR DE HOLANDA SANTOS, PPGP/UFAL, Interno;";ROLE=RE
 Q-PARTICIPANT:ANTONIO CESAR DE HOLANDA SANTOS, PPGP/UFAL, Interno;
ATTENDEE;CN="SIMONE MARIA HUNING, PPGP/UFAL, Interna;";ROLE=REQ-PARTICIPAN
 T:SIMONE MARIA HUNING, PPGP/UFAL, Interna;
ATTENDEE;CN="LUCIANA RODRIGUES, UFRGS, Externa à Instituição.";ROLE=REQ
 -PARTICIPANT:LUCIANA RODRIGUES, UFRGS, Externa à Instituição.
ATTENDEE;CN=;ROLE=REQ-PARTICIPANT:
CREATED:20250522T112943Z
DESCRIPTION:Defesa de Dissertação do(a) Discente: ÉRICK SANTOS DA SILVA
 .\nTítulo: PRIMAVERA PARA AS ROSAS NEGRAS: A CONSTRUÇÃO E A APRENDIZAGE
 M DA AFROESTIMA NA VIDA DE PESSOAS NEGRAS. \nTítulo em Inglês: SPRING FO
 R BLACK ROSES: THE CONSTRUCTION AND LEARNING OF AFRICAN ESTIMATE IN THE LI
 VES OF BLACK PEOPLE.
LAST-MODIFIED:20250702T221513Z
LOCATION:VIDEOCONFERÊNCIA
URL:https://ip.ufal.br/pt-br/pos-graduacao/pospsico/institucional/calendar
 io-de-defesas/2025/banca-de-defesa-de-dissertacao
END:VEVENT
BEGIN:VTIMEZONE
TZID:America/Maceio
X-LIC-LOCATION:America/Maceio
BEGIN:STANDARD
DTSTART:20020216T230000
TZNAME:-03
TZOFFSETFROM:-0200
TZOFFSETTO:-0300
END:STANDARD
END:VTIMEZONE
END:VCALENDAR
