BEGIN:VCALENDAR
VERSION:2.0
PRODID:-//Plone.org//NONSGML plone.app.event//EN
X-WR-TIMEZONE:America/Maceio
BEGIN:VEVENT
SUMMARY:Banca de Defesa de Dissertação
DTSTART;TZID=America/Maceio:20250627T140000
DTEND;TZID=America/Maceio:20250627T160000
DTSTAMP:20260420T222328Z
UID:45aba312a3a64a159fbe014daa92b2d5@ip.ufal.br
ATTENDEE;CN="MARCOS RIBEIRO MESQUITA, PPGP/UFAL, Orientador-Presidente; LE
 TÍCIA CAROLINA PEREIRA DO NASCIMENTO, PPG-SOCIOLOGIA/UFPI, examinadora ex
 terna; TELMA LOW SILVA JUNQUEIRA, PPGP/UFAL, examinadora interna.";ROLE=RE
 Q-PARTICIPANT:MARCOS RIBEIRO MESQUITA, PPGP/UFAL, Orientador-Presidente; L
 ETÍCIA CAROLINA PEREIRA DO NASCIMENTO, PPG-SOCIOLOGIA/UFPI, examinadora e
 xterna; TELMA LOW SILVA JUNQUEIRA, PPGP/UFAL, examinadora interna.
ATTENDEE;CN=;ROLE=REQ-PARTICIPANT:
CREATED:20250610T101200Z
DESCRIPTION:Defesa de Dissertação do(a) Discente: CAUÊ ASSIS DE MOURA. 
 Título: CARTAS TRANSFEMINISTAS: FRICCIONANDO FRONTEIRAS\; Título em Ingl
 ês: TRANSFEMINIST LETTERS: Rubbing borders.
LAST-MODIFIED:20250702T221514Z
LOCATION:VIDEOCONFERÊNCIA
URL:https://ip.ufal.br/pt-br/pos-graduacao/pospsico/institucional/calendar
 io-de-defesas/2025/banca-de-defesa-de-dissertacao-9
END:VEVENT
BEGIN:VTIMEZONE
TZID:America/Maceio
X-LIC-LOCATION:America/Maceio
BEGIN:STANDARD
DTSTART:20020216T230000
TZNAME:-03
TZOFFSETFROM:-0200
TZOFFSETTO:-0300
END:STANDARD
END:VTIMEZONE
END:VCALENDAR
