BEGIN:VCALENDAR
VERSION:2.0
PRODID:-//Plone.org//NONSGML plone.app.event//EN
X-WR-TIMEZONE:America/Maceio
BEGIN:VEVENT
SUMMARY:Banca de Defesa de Dissertação
DTSTART;TZID=America/Maceio:20250618T100000
DTEND;TZID=America/Maceio:20250618T120000
DTSTAMP:20260420T203137Z
UID:b98aa6120e5744f9855ff2cbbd8eb73e@ip.ufal.br
ATTENDEE;CN="SHEYLA CHRISTINE SANTOS FERNANDES, PPGP/UFAL, Orientadora-Pre
 sidente; MARÍA ISIDORA BILBAO NIEVA, PPG-Psicologia Social/UAH, Externa 
 à Instituição; Lassana Danfá, PPGP/UFAL, Interno.";ROLE=REQ-PARTICIPAN
 T:SHEYLA CHRISTINE SANTOS FERNANDES, PPGP/UFAL, Orientadora-Presidente; MA
 RÍA ISIDORA BILBAO NIEVA, PPG-Psicologia Social/UAH, Externa à Institui
 ção; Lassana Danfá, PPGP/UFAL, Interno.
CREATED:20250527T133631Z
DESCRIPTION:Defesa de Dissertação do(a) Discente: MARCIKELE NASCIMENTO M
 ARTINS. Título: ENTRE A ROMANTIZAÇÃO E A RUPTURA: UMA ANÁLISE DAS CREN
 ÇAS DE MULHERES VITIMIZADAS POR VPI COM BASE EM ESTUDOS CIENTÍFICOS E NA
 RRATIVAS DIGITAIS. Título em Inglês: BETWEEN ROMANTICIZATION AND RUPTURE
 : AN ANALYSIS OF BELIEFS AMONG WOMEN VICTIMIZED BY IPV\, BASED ON SCIENTIF
 IC STUDIES AND DIGITAL NARRATIVES.
LAST-MODIFIED:20250702T221514Z
LOCATION:VIDEOCONFERÊNCIA
URL:https://ip.ufal.br/pt-br/pos-graduacao/pospsico/institucional/calendar
 io-de-defesas/2025/banca-de-defesa-de-dissertacao-8
END:VEVENT
BEGIN:VTIMEZONE
TZID:America/Maceio
X-LIC-LOCATION:America/Maceio
BEGIN:STANDARD
DTSTART:20020216T230000
TZNAME:-03
TZOFFSETFROM:-0200
TZOFFSETTO:-0300
END:STANDARD
END:VTIMEZONE
END:VCALENDAR
