BEGIN:VCALENDAR
VERSION:2.0
PRODID:-//Plone.org//NONSGML plone.app.event//EN
X-WR-TIMEZONE:America/Maceio
BEGIN:VEVENT
SUMMARY:Banca de Defesa de Dissertação
DTSTART;TZID=America/Maceio:20250530T140000
DTEND;TZID=America/Maceio:20250530T160000
DTSTAMP:20260420T222328Z
UID:feef39999cce4fb19cb5c75de63a7e3e@ip.ufal.br
ATTENDEE;CN="ANGELINA NUNES DE VASCONCELOS, PPGP/UFAL, Orientadora-Preside
 nte; PAULA ORCHIUCCI MIURA, PPGP/UFAL, Interna; ALESSANDRA JACQUELINE VIEI
 RA, UFRGS, Externa à Instituição.";ROLE=REQ-PARTICIPANT:ANGELINA NUNES 
 DE VASCONCELOS, PPGP/UFAL, Orientadora-Presidente; PAULA ORCHIUCCI MIURA, 
 PPGP/UFAL, Interna; ALESSANDRA JACQUELINE VIEIRA, UFRGS, Externa à Instit
 uição.
CREATED:20250522T115908Z
DESCRIPTION:Defesa de Dissertação do(a) Discente: MANUELLA LIRA CANUTO. 
 Título: A PRODUÇÃO DE SENTIDO EM PESSOAS COM TRANSTORNO DO ESPECTRO AUT
 ISTA (TEA) ATRAVÉS DA CONSTRUÇÃO DE NARRATIVAS. Título em Inglês: MEA
 NING-MAKING IN INDIVIDUALS WITH AUTISM SPECTRUM DISORDER (ASD) THROUGH NAR
 RATIVE CONSTRUCTION.
LAST-MODIFIED:20250702T221513Z
LOCATION:VIDEOCONFERÊNCIA
URL:https://ip.ufal.br/pt-br/pos-graduacao/pospsico/institucional/calendar
 io-de-defesas/2025/banca-de-defesa-de-dissertacao-7
END:VEVENT
BEGIN:VTIMEZONE
TZID:America/Maceio
X-LIC-LOCATION:America/Maceio
BEGIN:STANDARD
DTSTART:20020216T230000
TZNAME:-03
TZOFFSETFROM:-0200
TZOFFSETTO:-0300
END:STANDARD
END:VTIMEZONE
END:VCALENDAR
