BEGIN:VCALENDAR
VERSION:2.0
PRODID:-//Plone.org//NONSGML plone.app.event//EN
X-WR-TIMEZONE:America/Maceio
BEGIN:VEVENT
SUMMARY:Banca de Defesa de Dissertação
DTSTART;TZID=America/Maceio:20250529T100000
DTEND;TZID=America/Maceio:20250529T120000
DTSTAMP:20260420T172442Z
UID:bf30905ec03f44768a533db7c3d6c392@ip.ufal.br
ATTENDEE;CN="SUSANE VASCONCELOS ZANOTTI, PPGP/UFAL, Orientador-Presidente;
  CHARLES ELIAS LANG, PPGP/UFAL, Interno; CARLOS HENRIQUE KESSLER, UFRGS, E
 xterno à Instituição.";ROLE=REQ-PARTICIPANT:SUSANE VASCONCELOS ZANOTTI,
  PPGP/UFAL, Orientador-Presidente; CHARLES ELIAS LANG, PPGP/UFAL, Interno;
  CARLOS HENRIQUE KESSLER, UFRGS, Externo à Instituição.
CREATED:20250522T115657Z
DESCRIPTION:Defesa de Dissertação do(a) Discente: GABRIELA LINS MALTA. T
 ítulo: REFLEXÕES SOBRE A TRANSFERÊNCIA NA CLÍNICA ONLINE DURANTE A COV
 ID-19. Título em Inglês: REFLECTIONS ABOUT THE TRANSFERENCE IN ONLINE CL
 INICAL PRACTICE DURING COVID-19.
LAST-MODIFIED:20250702T221513Z
LOCATION:VIDEOCONFERÊNCIA
URL:https://ip.ufal.br/pt-br/pos-graduacao/pospsico/institucional/calendar
 io-de-defesas/2025/banca-de-defesa-de-dissertacao-6
END:VEVENT
BEGIN:VTIMEZONE
TZID:America/Maceio
X-LIC-LOCATION:America/Maceio
BEGIN:STANDARD
DTSTART:20020216T230000
TZNAME:-03
TZOFFSETFROM:-0200
TZOFFSETTO:-0300
END:STANDARD
END:VTIMEZONE
END:VCALENDAR
