BEGIN:VCALENDAR
VERSION:2.0
PRODID:-//Plone.org//NONSGML plone.app.event//EN
X-WR-TIMEZONE:America/Maceio
BEGIN:VEVENT
SUMMARY:Banca de Defesa de Dissertação
DTSTART;TZID=America/Maceio:20250528T080000
DTEND;TZID=America/Maceio:20250528T100000
DTSTAMP:20260420T172442Z
UID:d7298c3b34ab4a4b843e918c5867d725@ip.ufal.br
ATTENDEE;CN="SAULO LUDERS FERNANDES, PPGP/UFAL, Orientador-Presidente; LIL
 IANA PARRA-VALENCIA, UdeNAR, Coorientadora Externa à Instituição; LAZAR
 O BATISTA DA FONSECA, PPGP/UFAL, Interno; CANDIDA MARIA BEZERRA DANTAS, UF
 RN, Externa à Instituição;  MARIA DA GRAÇA GOMES DA COSTA, UFSB, Exter
 na à Instituição.";ROLE=REQ-PARTICIPANT:SAULO LUDERS FERNANDES, PPGP/UF
 AL, Orientador-Presidente; LILIANA PARRA-VALENCIA, UdeNAR, Coorientadora E
 xterna à Instituição; LAZARO BATISTA DA FONSECA, PPGP/UFAL, Interno; CA
 NDIDA MARIA BEZERRA DANTAS, UFRN, Externa à Instituição;  MARIA DA GRA
 ÇA GOMES DA COSTA, UFSB, Externa à Instituição.
CREATED:20250522T115215Z
DESCRIPTION:Defesa de Dissertação do(a) Discente: KAREN LAUREN MONTEIRO 
 SILVA. Título: ARMAÇÕES DE OUTRAS ESTÓRIAS: ABERTURAS NO COMUNICAR JUN
 TAS DESDE AS COMPOSIÇÕES ALAGOANAS. Título em Inglês: WEAVINGS OF OTHE
 R TALES: OPENINGS IN SPEAKING TOGETHER FROM ALAGOAN COMPOSITIONS.
LAST-MODIFIED:20250702T221513Z
LOCATION:VIDEOCONFERÊNCIA
URL:https://ip.ufal.br/pt-br/pos-graduacao/pospsico/institucional/calendar
 io-de-defesas/2025/banca-de-defesa-de-dissertacao-5
END:VEVENT
BEGIN:VTIMEZONE
TZID:America/Maceio
X-LIC-LOCATION:America/Maceio
BEGIN:STANDARD
DTSTART:20020216T230000
TZNAME:-03
TZOFFSETFROM:-0200
TZOFFSETTO:-0300
END:STANDARD
END:VTIMEZONE
END:VCALENDAR
