BEGIN:VCALENDAR
VERSION:2.0
PRODID:-//Plone.org//NONSGML plone.app.event//EN
X-WR-TIMEZONE:America/Maceio
BEGIN:VEVENT
SUMMARY:Banca de Defesa de Dissertação
DTSTART;TZID=America/Maceio:20250327T140000
DTEND;TZID=America/Maceio:20250327T160000
DTSTAMP:20260420T222329Z
UID:7273ddf50d1140018a7de1dd0de88f94@ip.ufal.br
ATTENDEE;CN="SIMONE MARIA HUNING, PPGP/UFAL, Orientadora-Presidente; MARCO
 S RIBEIRO MESQUITA, PPGP/UFAL, Interno; ALINE KELLY DA SILVA, USACH, Exter
 na à Instituição; ANITA GUAZZELLI BERNARDES, UCDB, Externa à Institui
 ção.";ROLE=REQ-PARTICIPANT:SIMONE MARIA HUNING, PPGP/UFAL, Orientadora-P
 residente; MARCOS RIBEIRO MESQUITA, PPGP/UFAL, Interno; ALINE KELLY DA SIL
 VA, USACH, Externa à Instituição; ANITA GUAZZELLI BERNARDES, UCDB, Exte
 rna à Instituição.
CREATED:20250522T114732Z
DESCRIPTION:Defesa de Dissertação do(a) Discente: YASMIN MACIANE DA SILV
 A. Título: CONVERSAS INCENDIÁRIAS COM ACADÊMICAS BRANCAS SOBRE ANTIRRAC
 ISMO CORDIAL EM SUAS PRÁTICAS\, PACTOS E DISCURSOS. Título em Inglês: T
 HE CORDIAL ANTI-RACISM OF WHITE ACADEMICS: BETWEEN PRACTICES\, PACTS AND S
 PEECHES.
LAST-MODIFIED:20250702T221513Z
LOCATION:VIDEOCONFERÊNCIA NA SALA 14 DO INSTITUTO DE PSICOLOGIA
URL:https://ip.ufal.br/pt-br/pos-graduacao/pospsico/institucional/calendar
 io-de-defesas/2025/banca-de-defesa-de-dissertacao-4
END:VEVENT
BEGIN:VTIMEZONE
TZID:America/Maceio
X-LIC-LOCATION:America/Maceio
BEGIN:STANDARD
DTSTART:20020216T230000
TZNAME:-03
TZOFFSETFROM:-0200
TZOFFSETTO:-0300
END:STANDARD
END:VTIMEZONE
END:VCALENDAR
