BEGIN:VCALENDAR
VERSION:2.0
PRODID:-//Plone.org//NONSGML plone.app.event//EN
X-WR-TIMEZONE:America/Maceio
BEGIN:VEVENT
SUMMARY:Banca de Defesa de Dissertação
DTSTART;TZID=America/Maceio:20250326T150000
DTEND;TZID=America/Maceio:20250326T170000
DTSTAMP:20260420T222329Z
UID:4c2c588d606349d09db349cb8c4ae8cf@ip.ufal.br
ATTENDEE;CN="LAZARO BATISTA DA FONSECA, PPGP/UFAL, Orientador-Presidente; 
 ";ROLE=REQ-PARTICIPANT:LAZARO BATISTA DA FONSECA, PPGP/UFAL, Orientador-Pr
 esidente; 
ATTENDEE;CN="SAULO LUDERS FERNANDES, PPGP/UFAL, Interno;	";ROLE=REQ-PARTIC
 IPANT:SAULO LUDERS FERNANDES, PPGP/UFAL, Interno;	
ATTENDEE;CN="ANTONIO DOS SANTOS BAPTISTA, UFF, Externo à Instituição.";
 ROLE=REQ-PARTICIPANT:ANTONIO DOS SANTOS BAPTISTA, UFF, Externo à Institui
 ção.
ATTENDEE;CN=;ROLE=REQ-PARTICIPANT:
CREATED:20250522T114225Z
DESCRIPTION:Defesa de Dissertação do(a) Discente: ALEXANDRE JORGE NOBRE 
 SILVA FILHO.\nTítulo: CASCALHOS DE HISTÓRIAS E IMAGENS DE UMA TERRA ESPE
 CULADA.\nTítulo em Inglês: GRAVELS OF STORIES AND IMAGES OF A SPECULATED
  LAND.
LAST-MODIFIED:20250702T221513Z
LOCATION:SALA 33 DO INSTITUTO DE PSICOLOGIA
URL:https://ip.ufal.br/pt-br/pos-graduacao/pospsico/institucional/calendar
 io-de-defesas/2025/banca-de-defesa-de-dissertacao-3
END:VEVENT
BEGIN:VTIMEZONE
TZID:America/Maceio
X-LIC-LOCATION:America/Maceio
BEGIN:STANDARD
DTSTART:20020216T230000
TZNAME:-03
TZOFFSETFROM:-0200
TZOFFSETTO:-0300
END:STANDARD
END:VTIMEZONE
END:VCALENDAR
