BEGIN:VCALENDAR
VERSION:2.0
PRODID:-//Plone.org//NONSGML plone.app.event//EN
X-WR-TIMEZONE:America/Maceio
BEGIN:VEVENT
SUMMARY:Banca de Defesa de Dissertação
DTSTART;TZID=America/Maceio:20250228T140000
DTEND;TZID=America/Maceio:20250228T160000
DTSTAMP:20260420T123312Z
UID:7fc33684446a41e08060b0b45a392347@ip.ufal.br
ATTENDEE;CN="PAULA ORCHIUCCI MIURA,  PPGP/UFAL, Orientadora-Presidente;";R
 OLE=REQ-PARTICIPANT:PAULA ORCHIUCCI MIURA,  PPGP/UFAL, Orientadora-Preside
 nte;
ATTENDEE;CN="ADELIA AUGUSTA SOUTO DE OLIVEIRA, PPGP/UFAL, Interna;	";ROLE=
 REQ-PARTICIPANT:ADELIA AUGUSTA SOUTO DE OLIVEIRA, PPGP/UFAL, Interna;	
ATTENDEE;CN="MARIAN ÁVILA DE LIMA DIAS, UNIFESP, Externa à Instituição
 .";ROLE=REQ-PARTICIPANT:MARIAN ÁVILA DE LIMA DIAS, UNIFESP, Externa à In
 stituição.
ATTENDEE;CN=;ROLE=REQ-PARTICIPANT:
CREATED:20250522T113907Z
DESCRIPTION:Defesa de Dissertação do(a) Discente: MELINDA TORRES BARROS 
 FERREIRA.\nTítulo: PROFISSIONAIS DA EDUCAÇÃO E PREVENÇÃO ÀS VIOLÊNC
 IAS CONTRA CRIANÇAS E ADOLESCENTES.\nTítulo em Inglês: PROFESSIONALS IN
  EDUCATION AND PREVENTION OF VIOLENCE AGAINST CHILDREN AND ADOLESCENTS.
LAST-MODIFIED:20250702T221513Z
LOCATION:VIDEOCONFERÊNCIA
URL:https://ip.ufal.br/pt-br/pos-graduacao/pospsico/institucional/calendar
 io-de-defesas/2025/banca-de-defesa-de-dissertacao-2
END:VEVENT
BEGIN:VTIMEZONE
TZID:America/Maceio
X-LIC-LOCATION:America/Maceio
BEGIN:STANDARD
DTSTART:20020216T230000
TZNAME:-03
TZOFFSETFROM:-0200
TZOFFSETTO:-0300
END:STANDARD
END:VTIMEZONE
END:VCALENDAR
