BEGIN:VCALENDAR
VERSION:2.0
PRODID:-//Plone.org//NONSGML plone.app.event//EN
X-WR-TIMEZONE:America/Maceio
BEGIN:VEVENT
SUMMARY:Banca de Defesa de Dissertação
DTSTART;TZID=America/Maceio:20250922T140000
DTEND;TZID=America/Maceio:20250922T150000
DTSTAMP:20260420T182401Z
UID:2cfa1850452d49bd8ffe1dd686559d17@ip.ufal.br
ATTENDEE;CN="SAULO LUDERS FERNANDES, UFAL, Orientador/Presidente; LILIANA 
 PARRA-VALENCIA, UDENAR-CO, Coorientadora; ANTONIO CESAR DE HOLANDA SANTOS,
  UFAL, examinador interno; MARIA DA GRAÇA GOMES DA COSTA, UFRN, examinado
 ra externa.";ROLE=REQ-PARTICIPANT:SAULO LUDERS FERNANDES, UFAL, Orientador
 /Presidente; LILIANA PARRA-VALENCIA, UDENAR-CO, Coorientadora; ANTONIO CES
 AR DE HOLANDA SANTOS, UFAL, examinador interno; MARIA DA GRAÇA GOMES DA C
 OSTA, UFRN, examinadora externa.
CREATED:20251105T133108Z
DESCRIPTION:Defesa de Dissertação do(a) Discente: CAROLINA VENTURA CAVAL
 CANTE BARBOSA.\nTítulo: “PORQUE NEM TUDO A MEDICINA CURA”: ENCANTARIA
 S COTIDIANAS PRODUZIDAS NO TERREIRO DE UM QUILOMBO DO AGRESTE ALAGOANO.\nT
 ítulo em Inglês: "BECAUSE MEDICINE DOESN'T CURE EVERYTHING": EVERYDAY EN
 CHANTMENTS PRODUCED IN THE YARD OF A QUILOMBO IN THE ALAGOAS COUNTRYSIDE.
LAST-MODIFIED:20251105T133120Z
LOCATION:VIDEOCONFERÊNCIA
URL:https://ip.ufal.br/pt-br/pos-graduacao/pospsico/institucional/calendar
 io-de-defesas/2025/banca-de-defesa-de-dissertacao-17
END:VEVENT
BEGIN:VTIMEZONE
TZID:America/Maceio
X-LIC-LOCATION:America/Maceio
BEGIN:STANDARD
DTSTART:20020216T230000
TZNAME:-03
TZOFFSETFROM:-0200
TZOFFSETTO:-0300
END:STANDARD
END:VTIMEZONE
END:VCALENDAR
