BEGIN:VCALENDAR
VERSION:2.0
PRODID:-//Plone.org//NONSGML plone.app.event//EN
X-WR-TIMEZONE:America/Maceio
BEGIN:VEVENT
SUMMARY:Banca de Defesa de Dissertação
DTSTART;TZID=America/Maceio:20250918T143000
DTEND;TZID=America/Maceio:20250918T153000
DTSTAMP:20260420T163817Z
UID:9606fa88db7b481583906d0cca6b24a9@ip.ufal.br
ATTENDEE;CN="NADJA MARIA VIEIRA DA SILVA, UFAL, Orientadora/Presidente; AN
 TONIO CESAR DE HOLANDA SANTOS, UFAL, Coorientador; MARCOS RIBEIRO MESQUITA
 , UFAL, examinador interno; LADISLAU RIBEIRO DO NASCIMENTO, UFT, examinado
 r externo;  ALINE BECKMANN DE CASTRO MENEZES, UFPA, examinadora externa.";
 ROLE=REQ-PARTICIPANT:NADJA MARIA VIEIRA DA SILVA, UFAL, Orientadora/Presid
 ente; ANTONIO CESAR DE HOLANDA SANTOS, UFAL, Coorientador; MARCOS RIBEIRO 
 MESQUITA, UFAL, examinador interno; LADISLAU RIBEIRO DO NASCIMENTO, UFT, e
 xaminador externo;  ALINE BECKMANN DE CASTRO MENEZES, UFPA, examinadora ex
 terna.
CREATED:20251105T132844Z
DESCRIPTION:Defesa de Dissertação do(a) Discente: LEONARDO BISMARCK LOPE
 S CAETANO.\nTítulo: PSICÓLOGOS NA EQUIPE MULTIPROFISSIONAL INSTITUÍDA P
 ELA LEI 13.935/2019.\nTítulo em Inglês: PSYCHOLOGISTS IN THE MULTIPROFES
 SIONAL TEAM INSTITUTED BY LAW 13.935/2019.
LAST-MODIFIED:20251105T132859Z
LOCATION:VIDEOCONFERÊNCIA
URL:https://ip.ufal.br/pt-br/pos-graduacao/pospsico/institucional/calendar
 io-de-defesas/2025/banca-de-defesa-de-dissertacao-16
END:VEVENT
BEGIN:VTIMEZONE
TZID:America/Maceio
X-LIC-LOCATION:America/Maceio
BEGIN:STANDARD
DTSTART:20020216T230000
TZNAME:-03
TZOFFSETFROM:-0200
TZOFFSETTO:-0300
END:STANDARD
END:VTIMEZONE
END:VCALENDAR
