BEGIN:VCALENDAR
VERSION:2.0
PRODID:-//Plone.org//NONSGML plone.app.event//EN
X-WR-TIMEZONE:America/Maceio
BEGIN:VEVENT
SUMMARY:Banca de Defesa de Dissertação
DTSTART;TZID=America/Maceio:20250918T100000
DTEND;TZID=America/Maceio:20250918T110000
DTSTAMP:20260420T170304Z
UID:2c1024e3fa9945a0991d3d9c18ab0f1d@ip.ufal.br
ATTENDEE;CN="SIMONE MARIA HUNING, UFAL, Orientadora/Presidente; MARCOS RIB
 EIRO MESQUITA, UFAL, examinador interno; MARIO HENRIQUE DA MATA MARTINS, U
 FSCAR, examinador externo.";ROLE=REQ-PARTICIPANT:SIMONE MARIA HUNING, UFAL
 , Orientadora/Presidente; MARCOS RIBEIRO MESQUITA, UFAL, examinador intern
 o; MARIO HENRIQUE DA MATA MARTINS, UFSCAR, examinador externo.
CREATED:20251105T132541Z
DESCRIPTION:Defesa de Dissertação do(a) Discente: ALISON SANTOS DA ROCHA
 .\nTítulo: MEMÓRIAS COLETIVAS DE COCADEIRAS TRADICIONAIS DA MASSAGUEIRA\
 , MARECHAL DEODORO – AL\, DIANTE DOS IMPACTOS SOCIOAMBIENTAIS DA EXPANS
 ÃO URBANA.\nTítulo em Inglês: COLLECTIVE MEMORIES OF TRADICIONAL COCONU
 T SWEET MAKERS FROM MASSAGUEIRA\, MARECHAL DEODORO - AL\, IN THE FACE OF T
 HE SOCIO-ENVIRONMENTAL IMPACTS OF URBAN EXPANSION.
LAST-MODIFIED:20251105T132559Z
LOCATION:VIDEOCONFERÊNCIA
URL:https://ip.ufal.br/pt-br/pos-graduacao/pospsico/institucional/calendar
 io-de-defesas/2025/banca-de-defesa-de-dissertacao-15
END:VEVENT
BEGIN:VTIMEZONE
TZID:America/Maceio
X-LIC-LOCATION:America/Maceio
BEGIN:STANDARD
DTSTART:20020216T230000
TZNAME:-03
TZOFFSETFROM:-0200
TZOFFSETTO:-0300
END:STANDARD
END:VTIMEZONE
END:VCALENDAR
