BEGIN:VCALENDAR
VERSION:2.0
PRODID:-//Plone.org//NONSGML plone.app.event//EN
X-WR-TIMEZONE:America/Maceio
BEGIN:VEVENT
SUMMARY:Banca de Defesa de Dissertação
DTSTART;TZID=America/Maceio:20250915T140000
DTEND;TZID=America/Maceio:20250915T150000
DTSTAMP:20260420T174849Z
UID:5fda88d1ff8e4ef88d1636fa3a204612@ip.ufal.br
ATTENDEE;CN="FREDERICO ALVES COSTA, UFAL, Orientador/Presidente; JEFFERSON
  DE SOUZA BERNARDES, UFAL, examinador interno; FREDERICO VIANA MACHADO, UF
 RGS, examinador externo.";ROLE=REQ-PARTICIPANT:FREDERICO ALVES COSTA, UFAL
 , Orientador/Presidente; JEFFERSON DE SOUZA BERNARDES, UFAL, examinador in
 terno; FREDERICO VIANA MACHADO, UFRGS, examinador externo.
CREATED:20251105T132323Z
DESCRIPTION:Defesa de Dissertação do(a) Discente: DEISYANNY MARIA ROCHA 
 FARIAS.\nTítulo: ATENÇÃO PRIMÁRIA À SAÚDE DE MACEIÓ: DISPUTAS E EST
 RATÉGIAS POLÍTICAS DO FÓRUMSUS EM PROL DOS PRINCÍPIOS DO SUS.\nTítulo
  em Inglês: PRIMARY HEALTH CARE IN MACEIO: POLITICAL DISPUTES AND STRATEG
 IES OF FORUMSUS IN DEFENSE OF SUS PRINCIPLES.
LAST-MODIFIED:20251105T132333Z
LOCATION:VIDEOCONFERÊNCIA
URL:https://ip.ufal.br/pt-br/pos-graduacao/pospsico/institucional/calendar
 io-de-defesas/2025/banca-de-defesa-de-dissertacao-14
END:VEVENT
BEGIN:VTIMEZONE
TZID:America/Maceio
X-LIC-LOCATION:America/Maceio
BEGIN:STANDARD
DTSTART:20020216T230000
TZNAME:-03
TZOFFSETFROM:-0200
TZOFFSETTO:-0300
END:STANDARD
END:VTIMEZONE
END:VCALENDAR
