BEGIN:VCALENDAR
VERSION:2.0
PRODID:-//Plone.org//NONSGML plone.app.event//EN
X-WR-TIMEZONE:America/Maceio
BEGIN:VEVENT
SUMMARY:Banca de Defesa de Dissertação
DTSTART;TZID=America/Maceio:20250829T090000
DTEND;TZID=America/Maceio:20250829T100000
DTSTAMP:20260420T163817Z
UID:949738f7911f4380a62b40d57d72a1ae@ip.ufal.br
ATTENDEE;CN="JEFFERSON DE SOUZA BERNARDES, UFAL, Orientador/Presidente; CH
 ARLES ELIAS LANG, UFAL, examinador interno; MARIA AUXILIADORA TEIXEIRA RIB
 EIRO, UFAL, examinadora interna; LUCIANA KIND DO NASCIMENTO, PUC-MG, exami
 nadora externa.";ROLE=REQ-PARTICIPANT:JEFFERSON DE SOUZA BERNARDES, UFAL, 
 Orientador/Presidente; CHARLES ELIAS LANG, UFAL, examinador interno; MARIA
  AUXILIADORA TEIXEIRA RIBEIRO, UFAL, examinadora interna; LUCIANA KIND DO 
 NASCIMENTO, PUC-MG, examinadora externa.
CREATED:20251105T132050Z
DESCRIPTION:Defesa de Dissertação do(a) Discente: JACKELINE MIRELLY QUIR
 INO DA SILVA ROCCA.\nTítulo: A ESCUTA EM UMA TECITURA DIALÓGICA.\nTítul
 o em Inglês: LISTENING IN A DIALOGICAL WEAVE.
LAST-MODIFIED:20251105T132059Z
LOCATION:VIDEOCONFERÊNCIA
URL:https://ip.ufal.br/pt-br/pos-graduacao/pospsico/institucional/calendar
 io-de-defesas/2025/banca-de-defesa-de-dissertacao-13
END:VEVENT
BEGIN:VTIMEZONE
TZID:America/Maceio
X-LIC-LOCATION:America/Maceio
BEGIN:STANDARD
DTSTART:20020216T230000
TZNAME:-03
TZOFFSETFROM:-0200
TZOFFSETTO:-0300
END:STANDARD
END:VTIMEZONE
END:VCALENDAR
