BEGIN:VCALENDAR
VERSION:2.0
PRODID:-//Plone.org//NONSGML plone.app.event//EN
X-WR-TIMEZONE:America/Maceio
BEGIN:VEVENT
SUMMARY:Banca de Defesa de Dissertação
DTSTART;TZID=America/Maceio:20250826T130000
DTEND;TZID=America/Maceio:20250826T140000
DTSTAMP:20260420T182400Z
UID:ded42db6954a4f65a07b6cb00390b206@ip.ufal.br
ATTENDEE;CN="CHARLES ELIAS LANG, UFAL, Orientador/Presidente; CLEYTON SIDN
 EY DE ANDRADE, UFAL, examinador interno; MARTA REGINA DE LEÃO D'AGORD, UF
 RGS, examinadora externa.";ROLE=REQ-PARTICIPANT:CHARLES ELIAS LANG, UFAL, 
 Orientador/Presidente; CLEYTON SIDNEY DE ANDRADE, UFAL, examinador interno
 ; MARTA REGINA DE LEÃO D'AGORD, UFRGS, examinadora externa.
CREATED:20251105T131803Z
DESCRIPTION:Defesa de Dissertação do(a) Discente: ISAIAS CHRISTIAN CAVAL
 CANTE ALVES.\nTítulo: ENTRE A LINGUAGEM E O ALGORITMO: A NOÇÃO DE SUJEI
 TO EM LACAN E NA CIBERNÉTICA.\nTítulo em Inglês: BETWEEN LANGUAGE AND A
 LGORITHM: THE NOTION OF SUBJECT IN LACAN AND CYBERNETICS.
LAST-MODIFIED:20251105T131826Z
LOCATION:VIDEOCONFERÊNCIA
URL:https://ip.ufal.br/pt-br/pos-graduacao/pospsico/institucional/calendar
 io-de-defesas/2025/banca-de-defesa-de-dissertacao-12
END:VEVENT
BEGIN:VTIMEZONE
TZID:America/Maceio
X-LIC-LOCATION:America/Maceio
BEGIN:STANDARD
DTSTART:20020216T230000
TZNAME:-03
TZOFFSETFROM:-0200
TZOFFSETTO:-0300
END:STANDARD
END:VTIMEZONE
END:VCALENDAR
