BEGIN:VCALENDAR
VERSION:2.0
PRODID:-//Plone.org//NONSGML plone.app.event//EN
X-WR-TIMEZONE:America/Maceio
BEGIN:VEVENT
SUMMARY:Banca de Defesa de Dissertação
DTSTART;TZID=America/Maceio:20250820T140000
DTEND;TZID=America/Maceio:20250820T150000
DTSTAMP:20260420T163816Z
UID:ee026a17a0054f04bb39d45a50e75b77@ip.ufal.br
ATTENDEE;CN="SIMONE MARIA HUNING, UFAL, Orientadora-Presidente; MARCOS RIB
 EIRO MESQUITA, UFAL, examinador interno; MERCÊS DE FÁTIMA DOS SANTOS SIL
 VA, UFRN, examinadora externa.";ROLE=REQ-PARTICIPANT:SIMONE MARIA HUNING, 
 UFAL, Orientadora-Presidente; MARCOS RIBEIRO MESQUITA, UFAL, examinador in
 terno; MERCÊS DE FÁTIMA DOS SANTOS SILVA, UFRN, examinadora externa.
CREATED:20251105T131558Z
DESCRIPTION:Defesa de Dissertação do(a) Discente: LARISSA FIRMINO DA SIL
 VA.\nTítulo: MULHERES NEGRAS TEM FOME DE QUE?: INSEGURANÇA ALIMENTAR\, I
 NTERSECCIONALIDADE E IMPLICAÇÕES COM AS ATUAIS POLÍTICAS PÚBLICAS DE C
 OMBATE À FOME.\nTítulo em Inglês: WHAT ARE BLACK WOMEN HUNGRY FOR?: FOO
 D INSECURITY\, INTERSECTIONALITY AND IMPLICATIONS FOR CURRENT PUBLIC POLIC
 IES TO COMBAT HUNGER.
LAST-MODIFIED:20251105T131609Z
LOCATION:VIDEOCONFERÊNCIA
URL:https://ip.ufal.br/pt-br/pos-graduacao/pospsico/institucional/calendar
 io-de-defesas/2025/banca-de-defesa-de-dissertacao-11
END:VEVENT
BEGIN:VTIMEZONE
TZID:America/Maceio
X-LIC-LOCATION:America/Maceio
BEGIN:STANDARD
DTSTART:20020216T230000
TZNAME:-03
TZOFFSETFROM:-0200
TZOFFSETTO:-0300
END:STANDARD
END:VTIMEZONE
END:VCALENDAR
