BEGIN:VCALENDAR
VERSION:2.0
PRODID:-//Plone.org//NONSGML plone.app.event//EN
X-WR-TIMEZONE:America/Maceio
BEGIN:VEVENT
SUMMARY:Banca de Defesa de Dissertação
DTSTART;TZID=America/Maceio:20250818T143000
DTEND;TZID=America/Maceio:20250818T153000
DTSTAMP:20260420T174846Z
UID:1bf2bb5c95e847dcadb5b309f4366002@ip.ufal.br
ATTENDEE;CN="NADJA MARIA VIEIRA DA SILVA, UFAL, Orientadora-Presidente; MA
 RIA AUXILIADORA TEIXEIRA RIBEIRO, UFAL, examinadora interna; POLLIANNA GAL
 VÃO SOARES, UFMA, examinadora externa.";ROLE=REQ-PARTICIPANT:NADJA MARIA 
 VIEIRA DA SILVA, UFAL, Orientadora-Presidente; MARIA AUXILIADORA TEIXEIRA 
 RIBEIRO, UFAL, examinadora interna; POLLIANNA GALVÃO SOARES, UFMA, examin
 adora externa.
CREATED:20251105T131253Z
DESCRIPTION:Defesa de Dissertação do(a) Discente: JULIANA SOARES LAUDELI
 NO SANTOS.\nTítulo: ALTERIDADE: ÉTICA E ESTÉTICA NA COMUNICAÇÃO COM A
  PESSOA QUE CONVIVE COM DEFICIÊNCIA EM CENÁRIOS EDUCACIONAIS\;\nTítulo 
 em Inglês: OTHERNESS: ETHICS AND AESTHETICS IN COMMUNICATION WITH PEOPLE 
 WITH DISABILITIES IN EDUCATIONAL SETTINGS.
LAST-MODIFIED:20251105T131323Z
LOCATION:VIDEOCONFERÊNCIA
URL:https://ip.ufal.br/pt-br/pos-graduacao/pospsico/institucional/calendar
 io-de-defesas/2025/banca-de-defesa-de-dissertacao-10
END:VEVENT
BEGIN:VTIMEZONE
TZID:America/Maceio
X-LIC-LOCATION:America/Maceio
BEGIN:STANDARD
DTSTART:20020216T230000
TZNAME:-03
TZOFFSETFROM:-0200
TZOFFSETTO:-0300
END:STANDARD
END:VTIMEZONE
END:VCALENDAR
