BEGIN:VCALENDAR
VERSION:2.0
PRODID:-//Plone.org//NONSGML plone.app.event//EN
X-WR-TIMEZONE:America/Maceio
BEGIN:VEVENT
SUMMARY:Banca de Defesa de Dissertação
DTSTART;TZID=America/Maceio:20250227T130000
DTEND;TZID=America/Maceio:20250227T150000
DTSTAMP:20260420T174849Z
UID:ad54757745214ef6816cbb1d9beb1720@ip.ufal.br
ATTENDEE;CN="SHEYLA CHRISTINE SANTOS FERNANDES, PPGP/UFAL, Orientadora-Pre
 sidente;";ROLE=REQ-PARTICIPANT:SHEYLA CHRISTINE SANTOS FERNANDES, PPGP/UFA
 L, Orientadora-Presidente;
ATTENDEE;CN="TELMA LOW SILVA JUNQUEIRA, PPGP/UFAL, Interna;";ROLE=REQ-PART
 ICIPANT:TELMA LOW SILVA JUNQUEIRA, PPGP/UFAL, Interna;
ATTENDEE;CN="KATIA CORREA VIONE, Universidade de Birmingham, Externa  à I
 nstituição.";ROLE=REQ-PARTICIPANT:KATIA CORREA VIONE, Universidade de Bi
 rmingham, Externa  à Instituição.
ATTENDEE;CN=;ROLE=REQ-PARTICIPANT:
CREATED:20250522T113629Z
DESCRIPTION:Defesa de Dissertação do(a) Discente: JENNYFER AMANDA ALVES 
 DA SILVA CHAGAS.\nTítulo: CUIDAR E RESISTIR: NARRATIVAS\, SOBRECARGA E RE
 DES DE APOIO NO CONTEXTO DA MATERNIDADE ATÍPICA. \nTítulo em Inglês: CA
 RING AND RESISTANCE: NARRATIVES\, OVERLOAD AND SUPPORT NETWORKS IN THE CON
 TEXT OF ATYPICAL MOTHERHOOD.
LAST-MODIFIED:20250702T221513Z
LOCATION:VIDEOCONFERÊNCIA
URL:https://ip.ufal.br/pt-br/pos-graduacao/pospsico/institucional/calendar
 io-de-defesas/2025/banca-de-defesa-de-dissertacao-1
END:VEVENT
BEGIN:VTIMEZONE
TZID:America/Maceio
X-LIC-LOCATION:America/Maceio
BEGIN:STANDARD
DTSTART:20020216T230000
TZNAME:-03
TZOFFSETFROM:-0200
TZOFFSETTO:-0300
END:STANDARD
END:VTIMEZONE
END:VCALENDAR
